BEGIN:VCALENDAR
VERSION:2.0
PRODID:-//St. Mark&#039;s, New Canaan - ECPv6.15.18//NONSGML v1.0//EN
CALSCALE:GREGORIAN
METHOD:PUBLISH
X-WR-CALNAME:St. Mark&#039;s, New Canaan
X-ORIGINAL-URL:https://www.stmarksnewcanaan.org
X-WR-CALDESC:Events for St. Mark&#039;s, New Canaan
REFRESH-INTERVAL;VALUE=DURATION:PT1H
X-Robots-Tag:noindex
X-PUBLISHED-TTL:PT1H
BEGIN:VTIMEZONE
TZID:America/New_York
BEGIN:DAYLIGHT
TZOFFSETFROM:-0500
TZOFFSETTO:-0400
TZNAME:EDT
DTSTART:20250309T070000
END:DAYLIGHT
BEGIN:STANDARD
TZOFFSETFROM:-0400
TZOFFSETTO:-0500
TZNAME:EST
DTSTART:20251102T060000
END:STANDARD
BEGIN:DAYLIGHT
TZOFFSETFROM:-0500
TZOFFSETTO:-0400
TZNAME:EDT
DTSTART:20260308T070000
END:DAYLIGHT
BEGIN:STANDARD
TZOFFSETFROM:-0400
TZOFFSETTO:-0500
TZNAME:EST
DTSTART:20261101T060000
END:STANDARD
BEGIN:DAYLIGHT
TZOFFSETFROM:-0500
TZOFFSETTO:-0400
TZNAME:EDT
DTSTART:20270314T070000
END:DAYLIGHT
BEGIN:STANDARD
TZOFFSETFROM:-0400
TZOFFSETTO:-0500
TZNAME:EST
DTSTART:20271107T060000
END:STANDARD
END:VTIMEZONE
BEGIN:VEVENT
DTSTART;TZID=America/New_York:20260222T121500
DTEND;TZID=America/New_York:20260222T163000
DTSTAMP:20260426T000629
CREATED:20260206T224839Z
LAST-MODIFIED:20260206T224839Z
UID:10015891-1771762500-1771777800@www.stmarksnewcanaan.org
SUMMARY:Serve Dinner at Open Doors
DESCRIPTION:Join a small St. Mark’s team serving guests at Open Doors\, an organization working toward housing stability for those experiencing homelessness in our region. \nShifts: 12:15–2:30PM (Prep/cooking) 2:15–4:30PM (Serving + cleanup). Sign up for one or both shifts. Volunteers must be 16+. \nSign up for Prep/Cooking \nSign up for Serving/Clean-up
URL:https://www.stmarksnewcanaan.org/event/serve-dinner-at-open-doors/
LOCATION:Open Doors\, 4 Merritt Street\, Norwall\, CT\, 06854\, United States
CATEGORIES:Community,Outreach
ATTACH;FMTTYPE=image/png:https://www.stmarksnewcanaan.org/wp-content/uploads/2024/02/open-doors.png
ORGANIZER;CN="Fr. John Kennedy":MAILTO:jkennedy@stmarksnewcanaan.org
END:VEVENT
END:VCALENDAR