BEGIN:VCALENDAR
VERSION:2.0
PRODID:-//St. Mark&#039;s, New Canaan - ECPv6.15.18//NONSGML v1.0//EN
CALSCALE:GREGORIAN
METHOD:PUBLISH
X-ORIGINAL-URL:https://www.stmarksnewcanaan.org
X-WR-CALDESC:Events for St. Mark&#039;s, New Canaan
REFRESH-INTERVAL;VALUE=DURATION:PT1H
X-Robots-Tag:noindex
X-PUBLISHED-TTL:PT1H
BEGIN:VTIMEZONE
TZID:America/New_York
BEGIN:DAYLIGHT
TZOFFSETFROM:-0500
TZOFFSETTO:-0400
TZNAME:EDT
DTSTART:20250309T070000
END:DAYLIGHT
BEGIN:STANDARD
TZOFFSETFROM:-0400
TZOFFSETTO:-0500
TZNAME:EST
DTSTART:20251102T060000
END:STANDARD
BEGIN:DAYLIGHT
TZOFFSETFROM:-0500
TZOFFSETTO:-0400
TZNAME:EDT
DTSTART:20260308T070000
END:DAYLIGHT
BEGIN:STANDARD
TZOFFSETFROM:-0400
TZOFFSETTO:-0500
TZNAME:EST
DTSTART:20261101T060000
END:STANDARD
BEGIN:DAYLIGHT
TZOFFSETFROM:-0500
TZOFFSETTO:-0400
TZNAME:EDT
DTSTART:20270314T070000
END:DAYLIGHT
BEGIN:STANDARD
TZOFFSETFROM:-0400
TZOFFSETTO:-0500
TZNAME:EST
DTSTART:20271107T060000
END:STANDARD
END:VTIMEZONE
BEGIN:VEVENT
DTSTART;TZID=America/New_York:20260428T083000
DTEND;TZID=America/New_York:20260428T090000
DTSTAMP:20260420T075009
CREATED:20230918T212439Z
LAST-MODIFIED:20251204T224149Z
UID:10012067-1777365000-1777366800@www.stmarksnewcanaan.org
SUMMARY:Morning Prayer
DESCRIPTION:
URL:https://www.stmarksnewcanaan.org/event/morning-prayer/2026-04-28/
LOCATION:CT
ATTACH;FMTTYPE=image/png:https://www.stmarksnewcanaan.org/wp-content/uploads/2024/02/StMark-slogo-405w.png
END:VEVENT
BEGIN:VEVENT
DTSTART;TZID=America/New_York:20260428T100000
DTEND;TZID=America/New_York:20260428T110000
DTSTAMP:20260420T075009
CREATED:20231107T231258Z
LAST-MODIFIED:20240817T195616Z
UID:10008039-1777370400-1777374000@www.stmarksnewcanaan.org
SUMMARY:AA
DESCRIPTION:
URL:https://www.stmarksnewcanaan.org/event/aa/2026-04-28/
LOCATION:CT
CATEGORIES:Community
END:VEVENT
BEGIN:VEVENT
DTSTART;TZID=America/New_York:20260428T120000
DTEND;TZID=America/New_York:20260428T130000
DTSTAMP:20260420T075009
CREATED:20231127T222214Z
LAST-MODIFIED:20240817T195605Z
UID:10007737-1777377600-1777381200@www.stmarksnewcanaan.org
SUMMARY:Alanon Tuesdays
DESCRIPTION:
URL:https://www.stmarksnewcanaan.org/event/alanon-tuesdays/2026-04-28/
LOCATION:Hugs
CATEGORIES:Community
END:VEVENT
BEGIN:VEVENT
DTSTART;TZID=America/New_York:20260429T083000
DTEND;TZID=America/New_York:20260429T090000
DTSTAMP:20260420T075010
CREATED:20230918T212439Z
LAST-MODIFIED:20251204T224149Z
UID:10012068-1777451400-1777453200@www.stmarksnewcanaan.org
SUMMARY:Morning Prayer
DESCRIPTION:
URL:https://www.stmarksnewcanaan.org/event/morning-prayer/2026-04-29/
LOCATION:CT
ATTACH;FMTTYPE=image/png:https://www.stmarksnewcanaan.org/wp-content/uploads/2024/02/StMark-slogo-405w.png
END:VEVENT
BEGIN:VEVENT
DTSTART;TZID=America/New_York:20260429T084500
DTEND;TZID=America/New_York:20260429T093000
DTSTAMP:20260420T075010
CREATED:20240126T230659Z
LAST-MODIFIED:20240817T195846Z
UID:10009199-1777452300-1777455000@www.stmarksnewcanaan.org
SUMMARY:Praying of the Rosary
DESCRIPTION:Via conference call at 978-990-5000   Access Code: 811368
URL:https://www.stmarksnewcanaan.org/event/praying-of-the-rosary/2026-04-29/
LOCATION:CT
CATEGORIES:Worship
END:VEVENT
BEGIN:VEVENT
DTSTART;TZID=America/New_York:20260429T160000
DTEND;TZID=America/New_York:20260429T163000
DTSTAMP:20260420T075010
CREATED:20250827T141548Z
LAST-MODIFIED:20250827T143321Z
UID:10014980-1777478400-1777480200@www.stmarksnewcanaan.org
SUMMARY:Children's Choir Rehearsal: Joyful Noyze
DESCRIPTION:Calling all children in kindergarten and up – Join us! Learn skills in reading and interpreting music\, as well as the joy of singing to our Lord and with each other\, all under the guidance of our Director of Music Ministry\, Ned Tipton. We welcome current and new members to join one of our two children’s choir levels: \n\nJoyful Noyze: For children in kindergarten through second grade\, Wednesdays 4-4:30PM\nChoristers: For children in third grade and older\, Wednesdays 4:30-5:30PM\n\nRehearsal and performance schedules follow the New Canaan school calendar. In addition to regular participation in Sunday services\, many fun and educational activities are planned. Register here. For more information\, please contact Ned Tipton through the church office or ntipton@stmarksnewcanaan.org
URL:https://www.stmarksnewcanaan.org/event/childrens-choir-rehearsal-joyful-noyze/2026-04-29/
LOCATION:St. Mark’s Episcopal Church\, 111 Oenoke Ridge\, New Canaan\, CT\, 06840
CATEGORIES:Church School,Music
ATTACH;FMTTYPE=image/jpeg:https://www.stmarksnewcanaan.org/wp-content/uploads/2025/08/Kids-Choirs-scaled-e1756304107245.jpeg
ORGANIZER;CN="Jan Maynes":MAILTO:children@stmarksnewcanaan.org
END:VEVENT
BEGIN:VEVENT
DTSTART;TZID=America/New_York:20260429T160000
DTEND;TZID=America/New_York:20260429T163000
DTSTAMP:20260420T075010
CREATED:20250827T142126Z
LAST-MODIFIED:20250827T143333Z
UID:10015226-1777478400-1777480200@www.stmarksnewcanaan.org
SUMMARY:Children's Choir Rehearsal: Choristers
DESCRIPTION:Calling all children in kindergarten and up – Join us! Learn skills in reading and interpreting music\, as well as the joy of singing to our Lord and with each other\, all under the guidance of our Director of Music Ministry\, Ned Tipton. We welcome current and new members to join one of our two children’s choir levels: \n\nJoyful Noyze: For children in kindergarten through second grade\, Wednesdays 4-4:30PM\nChoristers: For children in third grade and older\, Wednesdays 4:30-5:30PM\n\nRehearsal and performance schedules follow the New Canaan school calendar. In addition to regular participation in Sunday services\, many fun and educational activities are planned. Register here. For more information\, please contact Ned Tipton through the church office or ntipton@stmarksnewcanaan.org
URL:https://www.stmarksnewcanaan.org/event/childrens-choir-rehearsal-choristers-2/2026-04-29/
LOCATION:St. Mark’s Episcopal Church\, 111 Oenoke Ridge\, New Canaan\, CT\, 06840
CATEGORIES:Church School,Music
ATTACH;FMTTYPE=image/jpeg:https://www.stmarksnewcanaan.org/wp-content/uploads/2025/08/Kids-Choirs-scaled-e1756304107245.jpeg
ORGANIZER;CN="Jan Maynes":MAILTO:children@stmarksnewcanaan.org
END:VEVENT
BEGIN:VEVENT
DTSTART;TZID=America/New_York:20260429T163000
DTEND;TZID=America/New_York:20260429T173000
DTSTAMP:20260420T075010
CREATED:20250827T141957Z
LAST-MODIFIED:20250827T141957Z
UID:10015144-1777480200-1777483800@www.stmarksnewcanaan.org
SUMMARY:Children's Choir Rehearsal: Choristers
DESCRIPTION:Calling all children in kindergarten and up – Join us! Learn skills in reading and interpreting music\, as well as the joy of singing to our Lord and with each other\, all under the guidance of our Director of Music Ministry\, Ned Tipton. We welcome current and new members to join one of our two children’s choir levels: \n\nJoyful Noyze: For children in kindergarten through second grade\, Wednesdays 4-4:30PM\nChoristers: For children in third grade and older\, Wednesdays 4:30-5:30PM\n\nRehearsal and performance schedules follow the New Canaan school calendar. In addition to regular participation in Sunday services\, many fun and educational activities are planned. For more information\, please contact Ned Tipton through the church office or ntipton@stmarksnewcanaan.org
URL:https://www.stmarksnewcanaan.org/event/childrens-choir-rehearsal-choristers/2026-04-29/
LOCATION:St. Mark’s Episcopal Church\, 111 Oenoke Ridge\, New Canaan\, CT\, 06840
CATEGORIES:Church School,Music
ATTACH;FMTTYPE=image/jpeg:https://www.stmarksnewcanaan.org/wp-content/uploads/2025/08/Kids-Choirs-scaled-e1756304107245.jpeg
ORGANIZER;CN="Jan Maynes":MAILTO:children@stmarksnewcanaan.org
END:VEVENT
BEGIN:VEVENT
DTSTART;TZID=America/New_York:20260429T173000
DTEND;TZID=America/New_York:20260429T183000
DTSTAMP:20260420T075010
CREATED:20260414T160758Z
LAST-MODIFIED:20260417T144423Z
UID:10015926-1777483800-1777487400@www.stmarksnewcanaan.org
SUMMARY:Three Sessions on The Episcopal Church & Anglican Way of Being Christian
DESCRIPTION:Wednesdays\, April 29\, May 6\, May 13  |  5:30 – 6:30PM  |  Youth Room \nThe Episcopal Church\, a member of the Anglican Communion\, is part of one of the great Christian traditions. It is rooted in Scripture and the Sacraments\, and shaped by centuries of common prayer. This series\, led by the clergy of St. Mark’s\, introduces that tradition to anyone new to St. Mark’s\, curious about what Episcopalians believe and practice\, or interested in Confirmation or Reception. \nThe Bible in The Episcopal Church (April 29)\nScripture is at the center of our worship and theology. This session explores how the biblical canon came to be\, what it means to call these writings the Word of God\, and how Episcopalians read Scripture alongside reason and the church’s living tradition. \nBaptism and Eucharist: The Sacramental Life of the Church (May 6)\nThe two great sacraments are the foundation of the church’s life. This session traces Baptism and Eucharist from their origins in the ancient church to their place in Episcopal worship today\, and explores what it means to gather around the altar as the body of Christ. \nEpiscopal Identity and History: Who We Are and Where We Came From (May 13)\nThe Anglican tradition emerged from the English Reformation and\, through it\, from the ancient church. This session traces that history to The Episcopal Church in America\, examines how this church governs itself\, and reflects on what it means to be part of a worldwide communion. \nRegister online or call the Church Office at (203) 966-4515. Please register by April 29.
URL:https://www.stmarksnewcanaan.org/event/three-sessions-on-the-episcopal-church-anglican-way-of-being-christian/2026-04-29/
LOCATION:St. Mark’s Youth Room\, 111 Oenoke Ridge\, New Canaan\, CT\, United States
CATEGORIES:Classes & Forums,Home
ORGANIZER;CN="Fr. John Kennedy":MAILTO:jkennedy@stmarksnewcanaan.org
END:VEVENT
BEGIN:VEVENT
DTSTART;TZID=America/New_York:20260430T083000
DTEND;TZID=America/New_York:20260430T090000
DTSTAMP:20260420T075010
CREATED:20230918T212439Z
LAST-MODIFIED:20251204T224149Z
UID:10012069-1777537800-1777539600@www.stmarksnewcanaan.org
SUMMARY:Morning Prayer
DESCRIPTION:
URL:https://www.stmarksnewcanaan.org/event/morning-prayer/2026-04-30/
LOCATION:CT
ATTACH;FMTTYPE=image/png:https://www.stmarksnewcanaan.org/wp-content/uploads/2024/02/StMark-slogo-405w.png
END:VEVENT
BEGIN:VEVENT
DTSTART;TZID=America/New_York:20260430T121500
DTEND;TZID=America/New_York:20260430T124500
DTSTAMP:20260420T075010
CREATED:20260415T142658Z
LAST-MODIFIED:20260415T155726Z
UID:10015937-1777551300-1777553100@www.stmarksnewcanaan.org
SUMMARY:Centering Prayer with Rev. Elizabeth
DESCRIPTION:Join Rev. Elizabeth in the Church on Thursdays from 12:15-12:45 for a brief reflection\, instruction\, and 20-minutes of group Centering Prayer. \nCentering Prayer is a Christian silent practice of releasing thoughts as they come\, regardless of content\, during a period of 20 minutes. The fruit of the practice is a deeper level of awareness of God’s indwelling presence\, and spending time resting in that presence. This practice of ‘self-emptying’ (Philippians 2-11) aligns us with the self-emptying love that forms the core of Jesus’s own self-understanding and way of life. \nNo need to sign up. Please arrive on time in order to enter into silence as a group.
URL:https://www.stmarksnewcanaan.org/event/centering-prayer-with-rev-elizabeth-copy/2026-04-30/
LOCATION:St. Mark’s Episcopal Church\, 111 Oenoke Ridge\, New Canaan\, CT\, 06840
CATEGORIES:Community,Home,Prayer
ORGANIZER;CN="Rev. Elizabeth Garnsey":MAILTO:egarnsey@stmarksnewcanaan.org
END:VEVENT
BEGIN:VEVENT
DTSTART;TZID=America/New_York:20260430T190000
DTEND;TZID=America/New_York:20260430T203000
DTSTAMP:20260420T075010
CREATED:20231109T210334Z
LAST-MODIFIED:20251204T223958Z
UID:10010598-1777575600-1777581000@www.stmarksnewcanaan.org
SUMMARY:New Canaan Parent Support Group
DESCRIPTION:
URL:https://www.stmarksnewcanaan.org/event/new-canaan-parent-support-group/2026-04-30/
LOCATION:CT
END:VEVENT
BEGIN:VEVENT
DTSTART;TZID=America/New_York:20260430T190000
DTEND;TZID=America/New_York:20260430T210000
DTSTAMP:20260420T075010
CREATED:20240619T232201Z
LAST-MODIFIED:20251204T224058Z
UID:10009476-1777575600-1777582800@www.stmarksnewcanaan.org
SUMMARY:BSA Troop 70
DESCRIPTION:
URL:https://www.stmarksnewcanaan.org/event/bsa-troop-70-2/2026-04-30/
LOCATION:CT
END:VEVENT
END:VCALENDAR