BEGIN:VCALENDAR
VERSION:2.0
PRODID:-//St. Mark&#039;s, New Canaan - ECPv6.15.18//NONSGML v1.0//EN
CALSCALE:GREGORIAN
METHOD:PUBLISH
X-WR-CALNAME:St. Mark&#039;s, New Canaan
X-ORIGINAL-URL:https://www.stmarksnewcanaan.org
X-WR-CALDESC:Events for St. Mark&#039;s, New Canaan
REFRESH-INTERVAL;VALUE=DURATION:PT1H
X-Robots-Tag:noindex
X-PUBLISHED-TTL:PT1H
BEGIN:VTIMEZONE
TZID:America/New_York
BEGIN:DAYLIGHT
TZOFFSETFROM:-0500
TZOFFSETTO:-0400
TZNAME:EDT
DTSTART:20250309T070000
END:DAYLIGHT
BEGIN:STANDARD
TZOFFSETFROM:-0400
TZOFFSETTO:-0500
TZNAME:EST
DTSTART:20251102T060000
END:STANDARD
BEGIN:DAYLIGHT
TZOFFSETFROM:-0500
TZOFFSETTO:-0400
TZNAME:EDT
DTSTART:20260308T070000
END:DAYLIGHT
BEGIN:STANDARD
TZOFFSETFROM:-0400
TZOFFSETTO:-0500
TZNAME:EST
DTSTART:20261101T060000
END:STANDARD
BEGIN:DAYLIGHT
TZOFFSETFROM:-0500
TZOFFSETTO:-0400
TZNAME:EDT
DTSTART:20270314T070000
END:DAYLIGHT
BEGIN:STANDARD
TZOFFSETFROM:-0400
TZOFFSETTO:-0500
TZNAME:EST
DTSTART:20271107T060000
END:STANDARD
END:VTIMEZONE
BEGIN:VEVENT
DTSTART;TZID=America/New_York:20260402T180000
DTEND;TZID=America/New_York:20260402T190000
DTSTAMP:20260421T232944
CREATED:20260311T155529Z
LAST-MODIFIED:20260311T155529Z
UID:10014806-1775152800-1775156400@www.stmarksnewcanaan.org
SUMMARY:Holy Eucharist Rite II with Foot Washing and Choir
DESCRIPTION:
URL:https://www.stmarksnewcanaan.org/event/holy-eucharist-rite-ii-with-foot-washing-and-choir-2/
CATEGORIES:Home,Special Events,Worship
ATTACH;FMTTYPE=image/jpeg:https://www.stmarksnewcanaan.org/wp-content/uploads/2024/01/Foot-Washing-2024-John-Harrison-scaled-e1773244465229.jpg
END:VEVENT
BEGIN:VEVENT
DTSTART;TZID=America/New_York:20260403T120000
DTEND;TZID=America/New_York:20260403T130000
DTSTAMP:20260421T232944
CREATED:20260311T160021Z
LAST-MODIFIED:20260311T192654Z
UID:10014804-1775217600-1775221200@www.stmarksnewcanaan.org
SUMMARY:Good Friday Holy Eucharist Rite II with Choir
DESCRIPTION:
URL:https://www.stmarksnewcanaan.org/event/holy-eucharist-rite-ii-with-choir-3-2/
CATEGORIES:Home,Special Events,Worship
ATTACH;FMTTYPE=image/jpeg:https://www.stmarksnewcanaan.org/wp-content/uploads/2025/02/Crucifix-and-Holy-Week-scaled-e1740169930366.jpg
END:VEVENT
BEGIN:VEVENT
DTSTART;TZID=America/New_York:20260403T180000
DTEND;TZID=America/New_York:20260403T190000
DTSTAMP:20260421T232944
CREATED:20260311T160133Z
LAST-MODIFIED:20260311T160133Z
UID:10014802-1775239200-1775242800@www.stmarksnewcanaan.org
SUMMARY:Good Friday Holy Eucharist Rite II
DESCRIPTION:
URL:https://www.stmarksnewcanaan.org/event/holy-eucharist-rite-ii-with-choir-4-2/
CATEGORIES:Home,Special Events,Worship
ATTACH;FMTTYPE=image/jpeg:https://www.stmarksnewcanaan.org/wp-content/uploads/2025/02/Crucifix-and-Holy-Week-scaled-e1740169930366.jpg
END:VEVENT
BEGIN:VEVENT
DTSTART;TZID=America/New_York:20260404T193000
DTEND;TZID=America/New_York:20260404T203000
DTSTAMP:20260421T232944
CREATED:20260311T160225Z
LAST-MODIFIED:20260311T160226Z
UID:10014798-1775331000-1775334600@www.stmarksnewcanaan.org
SUMMARY:Great Vigil of Easter
DESCRIPTION:
URL:https://www.stmarksnewcanaan.org/event/great-vigil-of-easter-2-2/
CATEGORIES:Home,Special Events,Worship
ATTACH;FMTTYPE=image/jpeg:https://www.stmarksnewcanaan.org/wp-content/uploads/2025/02/Easter-vigil-outside.jpg
END:VEVENT
END:VCALENDAR