BEGIN:VCALENDAR
VERSION:2.0
PRODID:-//St. Mark&#039;s, New Canaan - ECPv6.15.18//NONSGML v1.0//EN
CALSCALE:GREGORIAN
METHOD:PUBLISH
X-ORIGINAL-URL:https://www.stmarksnewcanaan.org
X-WR-CALDESC:Events for St. Mark&#039;s, New Canaan
REFRESH-INTERVAL;VALUE=DURATION:PT1H
X-Robots-Tag:noindex
X-PUBLISHED-TTL:PT1H
BEGIN:VTIMEZONE
TZID:America/New_York
BEGIN:DAYLIGHT
TZOFFSETFROM:-0500
TZOFFSETTO:-0400
TZNAME:EDT
DTSTART:20250309T070000
END:DAYLIGHT
BEGIN:STANDARD
TZOFFSETFROM:-0400
TZOFFSETTO:-0500
TZNAME:EST
DTSTART:20251102T060000
END:STANDARD
BEGIN:DAYLIGHT
TZOFFSETFROM:-0500
TZOFFSETTO:-0400
TZNAME:EDT
DTSTART:20260308T070000
END:DAYLIGHT
BEGIN:STANDARD
TZOFFSETFROM:-0400
TZOFFSETTO:-0500
TZNAME:EST
DTSTART:20261101T060000
END:STANDARD
BEGIN:DAYLIGHT
TZOFFSETFROM:-0500
TZOFFSETTO:-0400
TZNAME:EDT
DTSTART:20270314T070000
END:DAYLIGHT
BEGIN:STANDARD
TZOFFSETFROM:-0400
TZOFFSETTO:-0500
TZNAME:EST
DTSTART:20271107T060000
END:STANDARD
END:VTIMEZONE
BEGIN:VEVENT
DTSTART;TZID=America/New_York:20260418T170000
DTEND;TZID=America/New_York:20260418T183000
DTSTAMP:20260423T235312
CREATED:20250919T200223Z
LAST-MODIFIED:20260401T121134Z
UID:10015367-1776531600-1776537000@www.stmarksnewcanaan.org
SUMMARY:Frédéric Blanc: Master Organ Recital
DESCRIPTION:Monsieur Blanc\, grand prize winnerof the 1997 Paris International Organ Competition\, is recognized as one of the most extraordinary concert artists in Europe\, specializing in improvisation. This recital will be enhanced by a large video screen\, giving us a view of his virtuosity at the organ console. Frédéric will play popular works of the organ concert repertoire\, and will also improvise a large-scale work on a melody provided to him … just before he begins to play! \nFollowed by a festive reception hosted by The Friends of Music at St. Mark’s. \n$30 General Admission ($35 day of show) / $10 Students. Tickets will be available about 60 days in advance of the event. \nClick to purchase tickets.
URL:https://www.stmarksnewcanaan.org/event/frederic-blanc-master-organ-recital/
LOCATION:St. Mark’s Episcopal Church\, 111 Oenoke Ridge\, New Canaan\, CT\, 06840
CATEGORIES:Community,Home,Music,Special Events
ATTACH;FMTTYPE=image/jpeg:https://www.stmarksnewcanaan.org/wp-content/uploads/2025/09/Frederic-Blanc-3B.jpg
END:VEVENT
END:VCALENDAR