BEGIN:VCALENDAR
VERSION:2.0
PRODID:-//St. Mark&#039;s, New Canaan - ECPv6.15.18//NONSGML v1.0//EN
CALSCALE:GREGORIAN
METHOD:PUBLISH
X-ORIGINAL-URL:https://www.stmarksnewcanaan.org
X-WR-CALDESC:Events for St. Mark&#039;s, New Canaan
REFRESH-INTERVAL;VALUE=DURATION:PT1H
X-Robots-Tag:noindex
X-PUBLISHED-TTL:PT1H
BEGIN:VTIMEZONE
TZID:America/New_York
BEGIN:DAYLIGHT
TZOFFSETFROM:-0500
TZOFFSETTO:-0400
TZNAME:EDT
DTSTART:20250309T070000
END:DAYLIGHT
BEGIN:STANDARD
TZOFFSETFROM:-0400
TZOFFSETTO:-0500
TZNAME:EST
DTSTART:20251102T060000
END:STANDARD
BEGIN:DAYLIGHT
TZOFFSETFROM:-0500
TZOFFSETTO:-0400
TZNAME:EDT
DTSTART:20260308T070000
END:DAYLIGHT
BEGIN:STANDARD
TZOFFSETFROM:-0400
TZOFFSETTO:-0500
TZNAME:EST
DTSTART:20261101T060000
END:STANDARD
BEGIN:DAYLIGHT
TZOFFSETFROM:-0500
TZOFFSETTO:-0400
TZNAME:EDT
DTSTART:20270314T070000
END:DAYLIGHT
BEGIN:STANDARD
TZOFFSETFROM:-0400
TZOFFSETTO:-0500
TZNAME:EST
DTSTART:20271107T060000
END:STANDARD
END:VTIMEZONE
BEGIN:VEVENT
DTSTART;TZID=America/New_York:20260621T080000
DTEND;TZID=America/New_York:20260621T090000
DTSTAMP:20260419T154158
CREATED:20230915T013617Z
LAST-MODIFIED:20250221T230944Z
UID:10013382-1782028800-1782032400@www.stmarksnewcanaan.org
SUMMARY:Holy Eucharist Rite I
DESCRIPTION:
URL:https://www.stmarksnewcanaan.org/event/holy-eucharist-rite-i/2026-06-21/
CATEGORIES:Worship
ATTACH;FMTTYPE=image/jpeg:https://www.stmarksnewcanaan.org/wp-content/uploads/2024/08/8AM.jpg
END:VEVENT
BEGIN:VEVENT
DTSTART;TZID=America/New_York:20260621T090000
DTEND;TZID=America/New_York:20260621T100000
DTSTAMP:20260419T154158
CREATED:20230915T014458Z
LAST-MODIFIED:20250221T230728Z
UID:10013074-1782032400-1782036000@www.stmarksnewcanaan.org
SUMMARY:Outdoor Holy Eucharist Rite II
DESCRIPTION:
URL:https://www.stmarksnewcanaan.org/event/outdoor-holy-eucharist-rite-ii/2026-06-21/
CATEGORIES:Worship
ATTACH;FMTTYPE=image/jpeg:https://www.stmarksnewcanaan.org/wp-content/uploads/2024/08/9AM.jpg
END:VEVENT
BEGIN:VEVENT
DTSTART;TZID=America/New_York:20260621T100000
DTEND;TZID=America/New_York:20260621T110000
DTSTAMP:20260419T154158
CREATED:20230918T210230Z
LAST-MODIFIED:20250221T230426Z
UID:10010914-1782036000-1782039600@www.stmarksnewcanaan.org
SUMMARY:Holy Eucharist Rite II with Live Stream
DESCRIPTION:
URL:https://www.stmarksnewcanaan.org/event/holy-eucharist-rite-ii-with-live-stream/2026-06-21/
CATEGORIES:Home,Worship
ATTACH;FMTTYPE=image/jpeg:https://www.stmarksnewcanaan.org/wp-content/uploads/2024/08/10AM.jpg
END:VEVENT
BEGIN:VEVENT
DTSTART;TZID=America/New_York:20260621T110000
DTEND;TZID=America/New_York:20260621T120000
DTSTAMP:20260419T154158
CREATED:20240903T160624Z
LAST-MODIFIED:20250826T195946Z
UID:10008354-1782039600-1782043200@www.stmarksnewcanaan.org
SUMMARY:World's Greatest Coffee Hour
DESCRIPTION:Stay after the 10:00 service for the “second sacred meal” where we form community and relationships. Greet familiar friends and meet new ones. Wear your nametag and introduce yourself to someone you do not know. \nIt takes many hands to make hospitality. Click here to choose the dates you can help!
URL:https://www.stmarksnewcanaan.org/event/coffee-hour-2/2026-06-21/
CATEGORIES:Community
ATTACH;FMTTYPE=image/jpeg:https://www.stmarksnewcanaan.org/wp-content/uploads/2024/08/Picnic-scaled-1.jpg
END:VEVENT
BEGIN:VEVENT
DTSTART;TZID=America/New_York:20260621T190000
DTEND;TZID=America/New_York:20260621T200000
DTSTAMP:20260419T154158
CREATED:20231127T221018Z
LAST-MODIFIED:20240919T190947Z
UID:10008914-1782068400-1782072000@www.stmarksnewcanaan.org
SUMMARY:Alateen
DESCRIPTION:
URL:https://www.stmarksnewcanaan.org/event/alateen-2/2026-06-21/
CATEGORIES:Community
ATTACH;FMTTYPE=image/jpeg:https://www.stmarksnewcanaan.org/wp-content/uploads/2024/08/Alateen-1.jpg
END:VEVENT
BEGIN:VEVENT
DTSTART;TZID=America/New_York:20260622T083000
DTEND;TZID=America/New_York:20260622T090000
DTSTAMP:20260419T154158
CREATED:20230918T212439Z
LAST-MODIFIED:20251204T224149Z
UID:10012106-1782117000-1782118800@www.stmarksnewcanaan.org
SUMMARY:Morning Prayer
DESCRIPTION:
URL:https://www.stmarksnewcanaan.org/event/morning-prayer/2026-06-22/
ATTACH;FMTTYPE=image/png:https://www.stmarksnewcanaan.org/wp-content/uploads/2024/02/StMark-slogo-405w.png
END:VEVENT
BEGIN:VEVENT
DTSTART;TZID=America/New_York:20260623T083000
DTEND;TZID=America/New_York:20260623T090000
DTSTAMP:20260419T154158
CREATED:20230918T212439Z
LAST-MODIFIED:20251204T224149Z
UID:10012107-1782203400-1782205200@www.stmarksnewcanaan.org
SUMMARY:Morning Prayer
DESCRIPTION:
URL:https://www.stmarksnewcanaan.org/event/morning-prayer/2026-06-23/
ATTACH;FMTTYPE=image/png:https://www.stmarksnewcanaan.org/wp-content/uploads/2024/02/StMark-slogo-405w.png
END:VEVENT
BEGIN:VEVENT
DTSTART;TZID=America/New_York:20260623T100000
DTEND;TZID=America/New_York:20260623T110000
DTSTAMP:20260419T154158
CREATED:20231107T231258Z
LAST-MODIFIED:20240817T195616Z
UID:10008047-1782208800-1782212400@www.stmarksnewcanaan.org
SUMMARY:AA
DESCRIPTION:
URL:https://www.stmarksnewcanaan.org/event/aa/2026-06-23/
CATEGORIES:Community
END:VEVENT
BEGIN:VEVENT
DTSTART;TZID=America/New_York:20260623T120000
DTEND;TZID=America/New_York:20260623T130000
DTSTAMP:20260419T154158
CREATED:20231127T222214Z
LAST-MODIFIED:20240817T195605Z
UID:10007745-1782216000-1782219600@www.stmarksnewcanaan.org
SUMMARY:Alanon Tuesdays
DESCRIPTION:
URL:https://www.stmarksnewcanaan.org/event/alanon-tuesdays/2026-06-23/
LOCATION:Hugs
CATEGORIES:Community
END:VEVENT
BEGIN:VEVENT
DTSTART;TZID=America/New_York:20260624T083000
DTEND;TZID=America/New_York:20260624T090000
DTSTAMP:20260419T154158
CREATED:20230918T212439Z
LAST-MODIFIED:20251204T224149Z
UID:10012108-1782289800-1782291600@www.stmarksnewcanaan.org
SUMMARY:Morning Prayer
DESCRIPTION:
URL:https://www.stmarksnewcanaan.org/event/morning-prayer/2026-06-24/
ATTACH;FMTTYPE=image/png:https://www.stmarksnewcanaan.org/wp-content/uploads/2024/02/StMark-slogo-405w.png
END:VEVENT
BEGIN:VEVENT
DTSTART;TZID=America/New_York:20260624T084500
DTEND;TZID=America/New_York:20260624T093000
DTSTAMP:20260419T154158
CREATED:20240126T230659Z
LAST-MODIFIED:20240817T195846Z
UID:10009207-1782290700-1782293400@www.stmarksnewcanaan.org
SUMMARY:Praying of the Rosary
DESCRIPTION:Via conference call at 978-990-5000   Access Code: 811368
URL:https://www.stmarksnewcanaan.org/event/praying-of-the-rosary/2026-06-24/
CATEGORIES:Worship
END:VEVENT
BEGIN:VEVENT
DTSTART;TZID=America/New_York:20260624T160000
DTEND;TZID=America/New_York:20260624T163000
DTSTAMP:20260419T154158
CREATED:20250827T141548Z
LAST-MODIFIED:20250827T143321Z
UID:10014988-1782316800-1782318600@www.stmarksnewcanaan.org
SUMMARY:Children's Choir Rehearsal: Joyful Noyze
DESCRIPTION:Calling all children in kindergarten and up – Join us! Learn skills in reading and interpreting music\, as well as the joy of singing to our Lord and with each other\, all under the guidance of our Director of Music Ministry\, Ned Tipton. We welcome current and new members to join one of our two children’s choir levels: \n\nJoyful Noyze: For children in kindergarten through second grade\, Wednesdays 4-4:30PM\nChoristers: For children in third grade and older\, Wednesdays 4:30-5:30PM\n\nRehearsal and performance schedules follow the New Canaan school calendar. In addition to regular participation in Sunday services\, many fun and educational activities are planned. Register here. For more information\, please contact Ned Tipton through the church office or ntipton@stmarksnewcanaan.org
URL:https://www.stmarksnewcanaan.org/event/childrens-choir-rehearsal-joyful-noyze/2026-06-24/
LOCATION:St. Mark’s Episcopal Church\, 111 Oenoke Ridge\, New Canaan\, CT\, 06840
CATEGORIES:Church School,Music
ATTACH;FMTTYPE=image/jpeg:https://www.stmarksnewcanaan.org/wp-content/uploads/2025/08/Kids-Choirs-scaled-e1756304107245.jpeg
ORGANIZER;CN="Jan Maynes":MAILTO:children@stmarksnewcanaan.org
END:VEVENT
BEGIN:VEVENT
DTSTART;TZID=America/New_York:20260624T160000
DTEND;TZID=America/New_York:20260624T163000
DTSTAMP:20260419T154158
CREATED:20250827T142126Z
LAST-MODIFIED:20250827T143333Z
UID:10015234-1782316800-1782318600@www.stmarksnewcanaan.org
SUMMARY:Children's Choir Rehearsal: Choristers
DESCRIPTION:Calling all children in kindergarten and up – Join us! Learn skills in reading and interpreting music\, as well as the joy of singing to our Lord and with each other\, all under the guidance of our Director of Music Ministry\, Ned Tipton. We welcome current and new members to join one of our two children’s choir levels: \n\nJoyful Noyze: For children in kindergarten through second grade\, Wednesdays 4-4:30PM\nChoristers: For children in third grade and older\, Wednesdays 4:30-5:30PM\n\nRehearsal and performance schedules follow the New Canaan school calendar. In addition to regular participation in Sunday services\, many fun and educational activities are planned. Register here. For more information\, please contact Ned Tipton through the church office or ntipton@stmarksnewcanaan.org
URL:https://www.stmarksnewcanaan.org/event/childrens-choir-rehearsal-choristers-2/2026-06-24/
LOCATION:St. Mark’s Episcopal Church\, 111 Oenoke Ridge\, New Canaan\, CT\, 06840
CATEGORIES:Church School,Music
ATTACH;FMTTYPE=image/jpeg:https://www.stmarksnewcanaan.org/wp-content/uploads/2025/08/Kids-Choirs-scaled-e1756304107245.jpeg
ORGANIZER;CN="Jan Maynes":MAILTO:children@stmarksnewcanaan.org
END:VEVENT
BEGIN:VEVENT
DTSTART;TZID=America/New_York:20260624T163000
DTEND;TZID=America/New_York:20260624T173000
DTSTAMP:20260419T154158
CREATED:20250827T141957Z
LAST-MODIFIED:20250827T141957Z
UID:10015152-1782318600-1782322200@www.stmarksnewcanaan.org
SUMMARY:Children's Choir Rehearsal: Choristers
DESCRIPTION:Calling all children in kindergarten and up – Join us! Learn skills in reading and interpreting music\, as well as the joy of singing to our Lord and with each other\, all under the guidance of our Director of Music Ministry\, Ned Tipton. We welcome current and new members to join one of our two children’s choir levels: \n\nJoyful Noyze: For children in kindergarten through second grade\, Wednesdays 4-4:30PM\nChoristers: For children in third grade and older\, Wednesdays 4:30-5:30PM\n\nRehearsal and performance schedules follow the New Canaan school calendar. In addition to regular participation in Sunday services\, many fun and educational activities are planned. For more information\, please contact Ned Tipton through the church office or ntipton@stmarksnewcanaan.org
URL:https://www.stmarksnewcanaan.org/event/childrens-choir-rehearsal-choristers/2026-06-24/
LOCATION:St. Mark’s Episcopal Church\, 111 Oenoke Ridge\, New Canaan\, CT\, 06840
CATEGORIES:Church School,Music
ATTACH;FMTTYPE=image/jpeg:https://www.stmarksnewcanaan.org/wp-content/uploads/2025/08/Kids-Choirs-scaled-e1756304107245.jpeg
ORGANIZER;CN="Jan Maynes":MAILTO:children@stmarksnewcanaan.org
END:VEVENT
BEGIN:VEVENT
DTSTART;TZID=America/New_York:20260625T083000
DTEND;TZID=America/New_York:20260625T090000
DTSTAMP:20260419T154158
CREATED:20230918T212439Z
LAST-MODIFIED:20251204T224149Z
UID:10012109-1782376200-1782378000@www.stmarksnewcanaan.org
SUMMARY:Morning Prayer
DESCRIPTION:
URL:https://www.stmarksnewcanaan.org/event/morning-prayer/2026-06-25/
ATTACH;FMTTYPE=image/png:https://www.stmarksnewcanaan.org/wp-content/uploads/2024/02/StMark-slogo-405w.png
END:VEVENT
BEGIN:VEVENT
DTSTART;TZID=America/New_York:20260625T121500
DTEND;TZID=America/New_York:20260625T124500
DTSTAMP:20260419T154158
CREATED:20260415T142658Z
LAST-MODIFIED:20260415T155726Z
UID:10015945-1782389700-1782391500@www.stmarksnewcanaan.org
SUMMARY:Centering Prayer with Rev. Elizabeth
DESCRIPTION:Join Rev. Elizabeth in the Church on Thursdays from 12:15-12:45 for a brief reflection\, instruction\, and 20-minutes of group Centering Prayer. \nCentering Prayer is a Christian silent practice of releasing thoughts as they come\, regardless of content\, during a period of 20 minutes. The fruit of the practice is a deeper level of awareness of God’s indwelling presence\, and spending time resting in that presence. This practice of ‘self-emptying’ (Philippians 2-11) aligns us with the self-emptying love that forms the core of Jesus’s own self-understanding and way of life. \nNo need to sign up. Please arrive on time in order to enter into silence as a group.
URL:https://www.stmarksnewcanaan.org/event/centering-prayer-with-rev-elizabeth-copy/2026-06-25/
LOCATION:St. Mark’s Episcopal Church\, 111 Oenoke Ridge\, New Canaan\, CT\, 06840
CATEGORIES:Community,Home,Prayer
ORGANIZER;CN="Rev. Elizabeth Garnsey":MAILTO:egarnsey@stmarksnewcanaan.org
END:VEVENT
BEGIN:VEVENT
DTSTART;TZID=America/New_York:20260625T190000
DTEND;TZID=America/New_York:20260625T203000
DTSTAMP:20260419T154158
CREATED:20231109T210334Z
LAST-MODIFIED:20251204T223958Z
UID:10010606-1782414000-1782419400@www.stmarksnewcanaan.org
SUMMARY:New Canaan Parent Support Group
DESCRIPTION:
URL:https://www.stmarksnewcanaan.org/event/new-canaan-parent-support-group/2026-06-25/
END:VEVENT
BEGIN:VEVENT
DTSTART;TZID=America/New_York:20260625T190000
DTEND;TZID=America/New_York:20260625T210000
DTSTAMP:20260419T154158
CREATED:20240619T232201Z
LAST-MODIFIED:20251204T224058Z
UID:10009484-1782414000-1782421200@www.stmarksnewcanaan.org
SUMMARY:BSA Troop 70
DESCRIPTION:
URL:https://www.stmarksnewcanaan.org/event/bsa-troop-70-2/2026-06-25/
END:VEVENT
BEGIN:VEVENT
DTSTART;TZID=America/New_York:20260626T083000
DTEND;TZID=America/New_York:20260626T090000
DTSTAMP:20260419T154158
CREATED:20230918T212439Z
LAST-MODIFIED:20251204T224149Z
UID:10012110-1782462600-1782464400@www.stmarksnewcanaan.org
SUMMARY:Morning Prayer
DESCRIPTION:
URL:https://www.stmarksnewcanaan.org/event/morning-prayer/2026-06-26/
ATTACH;FMTTYPE=image/png:https://www.stmarksnewcanaan.org/wp-content/uploads/2024/02/StMark-slogo-405w.png
END:VEVENT
BEGIN:VEVENT
DTSTART;TZID=America/New_York:20260626T090000
DTEND;TZID=America/New_York:20260626T113000
DTSTAMP:20260419T154158
CREATED:20250707T202614Z
LAST-MODIFIED:20250707T202614Z
UID:10010273-1782464400-1782473400@www.stmarksnewcanaan.org
SUMMARY:NC Men's Club
DESCRIPTION:The New Canaan Men’s Club was founded in 1977 by a group of men who met regularly at the Y to play racquetball. \nWhile we have grown quite a bit since then\, friendship and fellowship remain core to our Club. We meet on Friday mornings in Morrill Hall at St. Mark’s Episcopal Church\, but we are both nonreligious and nonpartisan. \nOur Members come from New Canaan and surrounding communities. They bring diverse experiences from their careers\, talents\, travels\, and lives. What brings us together is the variety of activities and interests Club Members share. Explore our website and calendar to see the many and varied activities that are available to all Members. Each Friday meeting has a speaker covering an interesting and often timely topic so we are constantly learning
URL:https://www.stmarksnewcanaan.org/event/nc-mens-club-2-2-2/2026-06-26/
END:VEVENT
BEGIN:VEVENT
DTSTART;TZID=America/New_York:20260628T080000
DTEND;TZID=America/New_York:20260628T090000
DTSTAMP:20260419T154158
CREATED:20230915T013617Z
LAST-MODIFIED:20250221T230944Z
UID:10013383-1782633600-1782637200@www.stmarksnewcanaan.org
SUMMARY:Holy Eucharist Rite I
DESCRIPTION:
URL:https://www.stmarksnewcanaan.org/event/holy-eucharist-rite-i/2026-06-28/
CATEGORIES:Worship
ATTACH;FMTTYPE=image/jpeg:https://www.stmarksnewcanaan.org/wp-content/uploads/2024/08/8AM.jpg
END:VEVENT
BEGIN:VEVENT
DTSTART;TZID=America/New_York:20260628T090000
DTEND;TZID=America/New_York:20260628T100000
DTSTAMP:20260419T154158
CREATED:20230915T014458Z
LAST-MODIFIED:20250221T230728Z
UID:10013075-1782637200-1782640800@www.stmarksnewcanaan.org
SUMMARY:Outdoor Holy Eucharist Rite II
DESCRIPTION:
URL:https://www.stmarksnewcanaan.org/event/outdoor-holy-eucharist-rite-ii/2026-06-28/
CATEGORIES:Worship
ATTACH;FMTTYPE=image/jpeg:https://www.stmarksnewcanaan.org/wp-content/uploads/2024/08/9AM.jpg
END:VEVENT
BEGIN:VEVENT
DTSTART;TZID=America/New_York:20260628T100000
DTEND;TZID=America/New_York:20260628T110000
DTSTAMP:20260419T154158
CREATED:20230918T210230Z
LAST-MODIFIED:20250221T230426Z
UID:10010915-1782640800-1782644400@www.stmarksnewcanaan.org
SUMMARY:Holy Eucharist Rite II with Live Stream
DESCRIPTION:
URL:https://www.stmarksnewcanaan.org/event/holy-eucharist-rite-ii-with-live-stream/2026-06-28/
CATEGORIES:Home,Worship
ATTACH;FMTTYPE=image/jpeg:https://www.stmarksnewcanaan.org/wp-content/uploads/2024/08/10AM.jpg
END:VEVENT
BEGIN:VEVENT
DTSTART;TZID=America/New_York:20260628T110000
DTEND;TZID=America/New_York:20260628T120000
DTSTAMP:20260419T154158
CREATED:20240903T160624Z
LAST-MODIFIED:20250826T195946Z
UID:10008355-1782644400-1782648000@www.stmarksnewcanaan.org
SUMMARY:World's Greatest Coffee Hour
DESCRIPTION:Stay after the 10:00 service for the “second sacred meal” where we form community and relationships. Greet familiar friends and meet new ones. Wear your nametag and introduce yourself to someone you do not know. \nIt takes many hands to make hospitality. Click here to choose the dates you can help!
URL:https://www.stmarksnewcanaan.org/event/coffee-hour-2/2026-06-28/
CATEGORIES:Community
ATTACH;FMTTYPE=image/jpeg:https://www.stmarksnewcanaan.org/wp-content/uploads/2024/08/Picnic-scaled-1.jpg
END:VEVENT
BEGIN:VEVENT
DTSTART;TZID=America/New_York:20260628T114500
DTEND;TZID=America/New_York:20260628T134500
DTSTAMP:20260419T154158
CREATED:20260415T153610Z
LAST-MODIFIED:20260415T155423Z
UID:10016198-1782647100-1782654300@www.stmarksnewcanaan.org
SUMMARY:Vestry Committee Meeting
DESCRIPTION:Monthly meeting for Vestry committee members.
URL:https://www.stmarksnewcanaan.org/event/vestry-committee-meeting-2/2026-06-28/
LOCATION:St. Mark’s Education Center\, 111 Oenoke Ridge\, New Canaan\, CT\, 06840\, United States
ORGANIZER;CN="Jill Sautkulis":MAILTO:jsautkulis@stmarksnewcanaan.org
END:VEVENT
BEGIN:VEVENT
DTSTART;TZID=America/New_York:20260628T190000
DTEND;TZID=America/New_York:20260628T200000
DTSTAMP:20260419T154158
CREATED:20231127T221018Z
LAST-MODIFIED:20240919T190947Z
UID:10008915-1782673200-1782676800@www.stmarksnewcanaan.org
SUMMARY:Alateen
DESCRIPTION:
URL:https://www.stmarksnewcanaan.org/event/alateen-2/2026-06-28/
CATEGORIES:Community
ATTACH;FMTTYPE=image/jpeg:https://www.stmarksnewcanaan.org/wp-content/uploads/2024/08/Alateen-1.jpg
END:VEVENT
BEGIN:VEVENT
DTSTART;TZID=America/New_York:20260629T083000
DTEND;TZID=America/New_York:20260629T090000
DTSTAMP:20260419T154158
CREATED:20230918T212439Z
LAST-MODIFIED:20251204T224149Z
UID:10012111-1782721800-1782723600@www.stmarksnewcanaan.org
SUMMARY:Morning Prayer
DESCRIPTION:
URL:https://www.stmarksnewcanaan.org/event/morning-prayer/2026-06-29/
ATTACH;FMTTYPE=image/png:https://www.stmarksnewcanaan.org/wp-content/uploads/2024/02/StMark-slogo-405w.png
END:VEVENT
BEGIN:VEVENT
DTSTART;TZID=America/New_York:20260630T083000
DTEND;TZID=America/New_York:20260630T090000
DTSTAMP:20260419T154158
CREATED:20230918T212439Z
LAST-MODIFIED:20251204T224149Z
UID:10012112-1782808200-1782810000@www.stmarksnewcanaan.org
SUMMARY:Morning Prayer
DESCRIPTION:
URL:https://www.stmarksnewcanaan.org/event/morning-prayer/2026-06-30/
ATTACH;FMTTYPE=image/png:https://www.stmarksnewcanaan.org/wp-content/uploads/2024/02/StMark-slogo-405w.png
END:VEVENT
BEGIN:VEVENT
DTSTART;TZID=America/New_York:20260630T100000
DTEND;TZID=America/New_York:20260630T110000
DTSTAMP:20260419T154158
CREATED:20231107T231258Z
LAST-MODIFIED:20240817T195616Z
UID:10008048-1782813600-1782817200@www.stmarksnewcanaan.org
SUMMARY:AA
DESCRIPTION:
URL:https://www.stmarksnewcanaan.org/event/aa/2026-06-30/
CATEGORIES:Community
END:VEVENT
BEGIN:VEVENT
DTSTART;TZID=America/New_York:20260630T120000
DTEND;TZID=America/New_York:20260630T130000
DTSTAMP:20260419T154158
CREATED:20231127T222214Z
LAST-MODIFIED:20240817T195605Z
UID:10007746-1782820800-1782824400@www.stmarksnewcanaan.org
SUMMARY:Alanon Tuesdays
DESCRIPTION:
URL:https://www.stmarksnewcanaan.org/event/alanon-tuesdays/2026-06-30/
LOCATION:Hugs
CATEGORIES:Community
END:VEVENT
END:VCALENDAR