BEGIN:VCALENDAR
VERSION:2.0
PRODID:-//St. Mark&#039;s, New Canaan - ECPv6.15.18//NONSGML v1.0//EN
CALSCALE:GREGORIAN
METHOD:PUBLISH
X-WR-CALNAME:St. Mark&#039;s, New Canaan
X-ORIGINAL-URL:https://www.stmarksnewcanaan.org
X-WR-CALDESC:Events for St. Mark&#039;s, New Canaan
REFRESH-INTERVAL;VALUE=DURATION:PT1H
X-Robots-Tag:noindex
X-PUBLISHED-TTL:PT1H
BEGIN:VTIMEZONE
TZID:America/New_York
BEGIN:DAYLIGHT
TZOFFSETFROM:-0500
TZOFFSETTO:-0400
TZNAME:EDT
DTSTART:20220313T070000
END:DAYLIGHT
BEGIN:STANDARD
TZOFFSETFROM:-0400
TZOFFSETTO:-0500
TZNAME:EST
DTSTART:20221106T060000
END:STANDARD
BEGIN:DAYLIGHT
TZOFFSETFROM:-0500
TZOFFSETTO:-0400
TZNAME:EDT
DTSTART:20230312T070000
END:DAYLIGHT
BEGIN:STANDARD
TZOFFSETFROM:-0400
TZOFFSETTO:-0500
TZNAME:EST
DTSTART:20231105T060000
END:STANDARD
BEGIN:DAYLIGHT
TZOFFSETFROM:-0500
TZOFFSETTO:-0400
TZNAME:EDT
DTSTART:20240310T070000
END:DAYLIGHT
BEGIN:STANDARD
TZOFFSETFROM:-0400
TZOFFSETTO:-0500
TZNAME:EST
DTSTART:20241103T060000
END:STANDARD
END:VTIMEZONE
BEGIN:VEVENT
DTSTART;TZID=America/New_York:20231015T090000
DTEND;TZID=America/New_York:20231015T100000
DTSTAMP:20260421T052746
CREATED:20230915T014458Z
LAST-MODIFIED:20250221T230728Z
UID:10012935-1697360400-1697364000@www.stmarksnewcanaan.org
SUMMARY:Outdoor Holy Eucharist Rite II
DESCRIPTION:
URL:https://www.stmarksnewcanaan.org/event/outdoor-holy-eucharist-rite-ii/2023-10-15/
LOCATION:CT
CATEGORIES:Worship
ATTACH;FMTTYPE=image/jpeg:https://www.stmarksnewcanaan.org/wp-content/uploads/2024/08/9AM.jpg
END:VEVENT
BEGIN:VEVENT
DTSTART;TZID=America/New_York:20231015T100000
DTEND;TZID=America/New_York:20231015T110000
DTSTAMP:20260421T052746
CREATED:20230918T210230Z
LAST-MODIFIED:20250221T230426Z
UID:10010775-1697364000-1697367600@www.stmarksnewcanaan.org
SUMMARY:Holy Eucharist Rite II with Live Stream
DESCRIPTION:
URL:https://www.stmarksnewcanaan.org/event/holy-eucharist-rite-ii-with-live-stream/2023-10-15/
LOCATION:CT
CATEGORIES:Home,Worship
ATTACH;FMTTYPE=image/jpeg:https://www.stmarksnewcanaan.org/wp-content/uploads/2024/08/10AM.jpg
END:VEVENT
BEGIN:VEVENT
DTSTART;TZID=America/New_York:20231015T110000
DTEND;TZID=America/New_York:20231015T120000
DTSTAMP:20260421T052746
CREATED:20230918T210733Z
LAST-MODIFIED:20240817T195624Z
UID:10008215-1697367600-1697371200@www.stmarksnewcanaan.org
SUMMARY:World's Greatest Coffee Hour
DESCRIPTION:Stay after the 10:00 service for the “second sacred meal” where we form community and relationships. Greet familiar friends and meet new ones. Wear your nametag and introduce yourself to someone you do not know. \nIt takes many hands to make hospitality. Click here to choose the dates you can help!
URL:https://www.stmarksnewcanaan.org/event/coffee-hour/2023-10-15/
LOCATION:CT
CATEGORIES:Community
ATTACH;FMTTYPE=image/jpeg:https://www.stmarksnewcanaan.org/wp-content/uploads/2024/08/Picnic-scaled-1.jpg
END:VEVENT
BEGIN:VEVENT
DTSTART;TZID=America/New_York:20231016T083000
DTEND;TZID=America/New_York:20231016T090000
DTSTAMP:20260421T052746
CREATED:20230918T212439Z
LAST-MODIFIED:20251204T224149Z
UID:10011407-1697445000-1697446800@www.stmarksnewcanaan.org
SUMMARY:Morning Prayer
DESCRIPTION:
URL:https://www.stmarksnewcanaan.org/event/morning-prayer/2023-10-16/
LOCATION:CT
ATTACH;FMTTYPE=image/png:https://www.stmarksnewcanaan.org/wp-content/uploads/2024/02/StMark-slogo-405w.png
END:VEVENT
BEGIN:VEVENT
DTSTART;TZID=America/New_York:20231017T083000
DTEND;TZID=America/New_York:20231017T090000
DTSTAMP:20260421T052746
CREATED:20230918T212439Z
LAST-MODIFIED:20251204T224149Z
UID:10011408-1697531400-1697533200@www.stmarksnewcanaan.org
SUMMARY:Morning Prayer
DESCRIPTION:
URL:https://www.stmarksnewcanaan.org/event/morning-prayer/2023-10-17/
LOCATION:CT
ATTACH;FMTTYPE=image/png:https://www.stmarksnewcanaan.org/wp-content/uploads/2024/02/StMark-slogo-405w.png
END:VEVENT
BEGIN:VEVENT
DTSTART;TZID=America/New_York:20231018T083000
DTEND;TZID=America/New_York:20231018T090000
DTSTAMP:20260421T052746
CREATED:20230918T212439Z
LAST-MODIFIED:20251204T224149Z
UID:10011409-1697617800-1697619600@www.stmarksnewcanaan.org
SUMMARY:Morning Prayer
DESCRIPTION:
URL:https://www.stmarksnewcanaan.org/event/morning-prayer/2023-10-18/
LOCATION:CT
ATTACH;FMTTYPE=image/png:https://www.stmarksnewcanaan.org/wp-content/uploads/2024/02/StMark-slogo-405w.png
END:VEVENT
BEGIN:VEVENT
DTSTART;TZID=America/New_York:20231018T120500
DTEND;TZID=America/New_York:20231018T123000
DTSTAMP:20260421T052746
CREATED:20230918T211304Z
LAST-MODIFIED:20241224T155655Z
UID:10014255-1697630700-1697632200@www.stmarksnewcanaan.org
SUMMARY:Holy Eucharist Rite II
DESCRIPTION:
URL:https://www.stmarksnewcanaan.org/event/holy-eucharist-rite-ii/2023-10-18/
LOCATION:CT
CATEGORIES:Home,Worship
ATTACH;FMTTYPE=image/jpeg:https://www.stmarksnewcanaan.org/wp-content/uploads/2024/08/10AM.jpg
END:VEVENT
BEGIN:VEVENT
DTSTART;TZID=America/New_York:20231019T083000
DTEND;TZID=America/New_York:20231019T090000
DTSTAMP:20260421T052746
CREATED:20230918T212439Z
LAST-MODIFIED:20251204T224149Z
UID:10011410-1697704200-1697706000@www.stmarksnewcanaan.org
SUMMARY:Morning Prayer
DESCRIPTION:
URL:https://www.stmarksnewcanaan.org/event/morning-prayer/2023-10-19/
LOCATION:CT
ATTACH;FMTTYPE=image/png:https://www.stmarksnewcanaan.org/wp-content/uploads/2024/02/StMark-slogo-405w.png
END:VEVENT
BEGIN:VEVENT
DTSTART;TZID=America/New_York:20231020T083000
DTEND;TZID=America/New_York:20231020T090000
DTSTAMP:20260421T052746
CREATED:20230918T212439Z
LAST-MODIFIED:20251204T224149Z
UID:10011411-1697790600-1697792400@www.stmarksnewcanaan.org
SUMMARY:Morning Prayer
DESCRIPTION:
URL:https://www.stmarksnewcanaan.org/event/morning-prayer/2023-10-20/
LOCATION:CT
ATTACH;FMTTYPE=image/png:https://www.stmarksnewcanaan.org/wp-content/uploads/2024/02/StMark-slogo-405w.png
END:VEVENT
BEGIN:VEVENT
DTSTART;TZID=America/New_York:20231022T080000
DTEND;TZID=America/New_York:20231022T090000
DTSTAMP:20260421T052746
CREATED:20230915T013617Z
LAST-MODIFIED:20250221T230944Z
UID:10013244-1697961600-1697965200@www.stmarksnewcanaan.org
SUMMARY:Holy Eucharist Rite I
DESCRIPTION:
URL:https://www.stmarksnewcanaan.org/event/holy-eucharist-rite-i/2023-10-22/
LOCATION:CT
CATEGORIES:Worship
ATTACH;FMTTYPE=image/jpeg:https://www.stmarksnewcanaan.org/wp-content/uploads/2024/08/8AM.jpg
END:VEVENT
BEGIN:VEVENT
DTSTART;TZID=America/New_York:20231022T090000
DTEND;TZID=America/New_York:20231022T100000
DTSTAMP:20260421T052746
CREATED:20230915T014458Z
LAST-MODIFIED:20250221T230728Z
UID:10012936-1697965200-1697968800@www.stmarksnewcanaan.org
SUMMARY:Outdoor Holy Eucharist Rite II
DESCRIPTION:
URL:https://www.stmarksnewcanaan.org/event/outdoor-holy-eucharist-rite-ii/2023-10-22/
LOCATION:CT
CATEGORIES:Worship
ATTACH;FMTTYPE=image/jpeg:https://www.stmarksnewcanaan.org/wp-content/uploads/2024/08/9AM.jpg
END:VEVENT
BEGIN:VEVENT
DTSTART;TZID=America/New_York:20231022T100000
DTEND;TZID=America/New_York:20231022T110000
DTSTAMP:20260421T052746
CREATED:20230918T210230Z
LAST-MODIFIED:20250221T230426Z
UID:10010776-1697968800-1697972400@www.stmarksnewcanaan.org
SUMMARY:Holy Eucharist Rite II with Live Stream
DESCRIPTION:
URL:https://www.stmarksnewcanaan.org/event/holy-eucharist-rite-ii-with-live-stream/2023-10-22/
LOCATION:CT
CATEGORIES:Home,Worship
ATTACH;FMTTYPE=image/jpeg:https://www.stmarksnewcanaan.org/wp-content/uploads/2024/08/10AM.jpg
END:VEVENT
BEGIN:VEVENT
DTSTART;TZID=America/New_York:20231022T110000
DTEND;TZID=America/New_York:20231022T120000
DTSTAMP:20260421T052746
CREATED:20230918T210733Z
LAST-MODIFIED:20240817T195624Z
UID:10008216-1697972400-1697976000@www.stmarksnewcanaan.org
SUMMARY:World's Greatest Coffee Hour
DESCRIPTION:Stay after the 10:00 service for the “second sacred meal” where we form community and relationships. Greet familiar friends and meet new ones. Wear your nametag and introduce yourself to someone you do not know. \nIt takes many hands to make hospitality. Click here to choose the dates you can help!
URL:https://www.stmarksnewcanaan.org/event/coffee-hour/2023-10-22/
LOCATION:CT
CATEGORIES:Community
ATTACH;FMTTYPE=image/jpeg:https://www.stmarksnewcanaan.org/wp-content/uploads/2024/08/Picnic-scaled-1.jpg
END:VEVENT
BEGIN:VEVENT
DTSTART;TZID=America/New_York:20231023T083000
DTEND;TZID=America/New_York:20231023T090000
DTSTAMP:20260421T052746
CREATED:20230918T212439Z
LAST-MODIFIED:20251204T224149Z
UID:10011412-1698049800-1698051600@www.stmarksnewcanaan.org
SUMMARY:Morning Prayer
DESCRIPTION:
URL:https://www.stmarksnewcanaan.org/event/morning-prayer/2023-10-23/
LOCATION:CT
ATTACH;FMTTYPE=image/png:https://www.stmarksnewcanaan.org/wp-content/uploads/2024/02/StMark-slogo-405w.png
END:VEVENT
BEGIN:VEVENT
DTSTART;TZID=America/New_York:20231024T083000
DTEND;TZID=America/New_York:20231024T090000
DTSTAMP:20260421T052746
CREATED:20230918T212439Z
LAST-MODIFIED:20251204T224149Z
UID:10011413-1698136200-1698138000@www.stmarksnewcanaan.org
SUMMARY:Morning Prayer
DESCRIPTION:
URL:https://www.stmarksnewcanaan.org/event/morning-prayer/2023-10-24/
LOCATION:CT
ATTACH;FMTTYPE=image/png:https://www.stmarksnewcanaan.org/wp-content/uploads/2024/02/StMark-slogo-405w.png
END:VEVENT
BEGIN:VEVENT
DTSTART;TZID=America/New_York:20231025T083000
DTEND;TZID=America/New_York:20231025T090000
DTSTAMP:20260421T052746
CREATED:20230918T212439Z
LAST-MODIFIED:20251204T224149Z
UID:10011414-1698222600-1698224400@www.stmarksnewcanaan.org
SUMMARY:Morning Prayer
DESCRIPTION:
URL:https://www.stmarksnewcanaan.org/event/morning-prayer/2023-10-25/
LOCATION:CT
ATTACH;FMTTYPE=image/png:https://www.stmarksnewcanaan.org/wp-content/uploads/2024/02/StMark-slogo-405w.png
END:VEVENT
BEGIN:VEVENT
DTSTART;TZID=America/New_York:20231025T120500
DTEND;TZID=America/New_York:20231025T123000
DTSTAMP:20260421T052746
CREATED:20230918T211304Z
LAST-MODIFIED:20241224T155655Z
UID:10014256-1698235500-1698237000@www.stmarksnewcanaan.org
SUMMARY:Holy Eucharist Rite II
DESCRIPTION:
URL:https://www.stmarksnewcanaan.org/event/holy-eucharist-rite-ii/2023-10-25/
LOCATION:CT
CATEGORIES:Home,Worship
ATTACH;FMTTYPE=image/jpeg:https://www.stmarksnewcanaan.org/wp-content/uploads/2024/08/10AM.jpg
END:VEVENT
BEGIN:VEVENT
DTSTART;TZID=America/New_York:20231026T083000
DTEND;TZID=America/New_York:20231026T090000
DTSTAMP:20260421T052746
CREATED:20230918T212439Z
LAST-MODIFIED:20251204T224149Z
UID:10011415-1698309000-1698310800@www.stmarksnewcanaan.org
SUMMARY:Morning Prayer
DESCRIPTION:
URL:https://www.stmarksnewcanaan.org/event/morning-prayer/2023-10-26/
LOCATION:CT
ATTACH;FMTTYPE=image/png:https://www.stmarksnewcanaan.org/wp-content/uploads/2024/02/StMark-slogo-405w.png
END:VEVENT
BEGIN:VEVENT
DTSTART;TZID=America/New_York:20231027T083000
DTEND;TZID=America/New_York:20231027T090000
DTSTAMP:20260421T052746
CREATED:20230918T212439Z
LAST-MODIFIED:20251204T224149Z
UID:10011416-1698395400-1698397200@www.stmarksnewcanaan.org
SUMMARY:Morning Prayer
DESCRIPTION:
URL:https://www.stmarksnewcanaan.org/event/morning-prayer/2023-10-27/
LOCATION:CT
ATTACH;FMTTYPE=image/png:https://www.stmarksnewcanaan.org/wp-content/uploads/2024/02/StMark-slogo-405w.png
END:VEVENT
BEGIN:VEVENT
DTSTART;TZID=America/New_York:20231029T080000
DTEND;TZID=America/New_York:20231029T090000
DTSTAMP:20260421T052746
CREATED:20230915T013617Z
LAST-MODIFIED:20250221T230944Z
UID:10013245-1698566400-1698570000@www.stmarksnewcanaan.org
SUMMARY:Holy Eucharist Rite I
DESCRIPTION:
URL:https://www.stmarksnewcanaan.org/event/holy-eucharist-rite-i/2023-10-29/
LOCATION:CT
CATEGORIES:Worship
ATTACH;FMTTYPE=image/jpeg:https://www.stmarksnewcanaan.org/wp-content/uploads/2024/08/8AM.jpg
END:VEVENT
BEGIN:VEVENT
DTSTART;TZID=America/New_York:20231029T090000
DTEND;TZID=America/New_York:20231029T100000
DTSTAMP:20260421T052746
CREATED:20230915T014458Z
LAST-MODIFIED:20250221T230728Z
UID:10012937-1698570000-1698573600@www.stmarksnewcanaan.org
SUMMARY:Outdoor Holy Eucharist Rite II
DESCRIPTION:
URL:https://www.stmarksnewcanaan.org/event/outdoor-holy-eucharist-rite-ii/2023-10-29/
LOCATION:CT
CATEGORIES:Worship
ATTACH;FMTTYPE=image/jpeg:https://www.stmarksnewcanaan.org/wp-content/uploads/2024/08/9AM.jpg
END:VEVENT
BEGIN:VEVENT
DTSTART;TZID=America/New_York:20231029T100000
DTEND;TZID=America/New_York:20231029T110000
DTSTAMP:20260421T052746
CREATED:20230918T210230Z
LAST-MODIFIED:20250221T230426Z
UID:10010777-1698573600-1698577200@www.stmarksnewcanaan.org
SUMMARY:Holy Eucharist Rite II with Live Stream
DESCRIPTION:
URL:https://www.stmarksnewcanaan.org/event/holy-eucharist-rite-ii-with-live-stream/2023-10-29/
LOCATION:CT
CATEGORIES:Home,Worship
ATTACH;FMTTYPE=image/jpeg:https://www.stmarksnewcanaan.org/wp-content/uploads/2024/08/10AM.jpg
END:VEVENT
BEGIN:VEVENT
DTSTART;TZID=America/New_York:20231029T110000
DTEND;TZID=America/New_York:20231029T120000
DTSTAMP:20260421T052746
CREATED:20230918T210733Z
LAST-MODIFIED:20240817T195624Z
UID:10008217-1698577200-1698580800@www.stmarksnewcanaan.org
SUMMARY:World's Greatest Coffee Hour
DESCRIPTION:Stay after the 10:00 service for the “second sacred meal” where we form community and relationships. Greet familiar friends and meet new ones. Wear your nametag and introduce yourself to someone you do not know. \nIt takes many hands to make hospitality. Click here to choose the dates you can help!
URL:https://www.stmarksnewcanaan.org/event/coffee-hour/2023-10-29/
LOCATION:CT
CATEGORIES:Community
ATTACH;FMTTYPE=image/jpeg:https://www.stmarksnewcanaan.org/wp-content/uploads/2024/08/Picnic-scaled-1.jpg
END:VEVENT
BEGIN:VEVENT
DTSTART;TZID=America/New_York:20231030T083000
DTEND;TZID=America/New_York:20231030T090000
DTSTAMP:20260421T052746
CREATED:20230918T212439Z
LAST-MODIFIED:20251204T224149Z
UID:10011417-1698654600-1698656400@www.stmarksnewcanaan.org
SUMMARY:Morning Prayer
DESCRIPTION:
URL:https://www.stmarksnewcanaan.org/event/morning-prayer/2023-10-30/
LOCATION:CT
ATTACH;FMTTYPE=image/png:https://www.stmarksnewcanaan.org/wp-content/uploads/2024/02/StMark-slogo-405w.png
END:VEVENT
BEGIN:VEVENT
DTSTART;TZID=America/New_York:20231031T083000
DTEND;TZID=America/New_York:20231031T090000
DTSTAMP:20260421T052746
CREATED:20230918T212439Z
LAST-MODIFIED:20251204T224149Z
UID:10011418-1698741000-1698742800@www.stmarksnewcanaan.org
SUMMARY:Morning Prayer
DESCRIPTION:
URL:https://www.stmarksnewcanaan.org/event/morning-prayer/2023-10-31/
LOCATION:CT
ATTACH;FMTTYPE=image/png:https://www.stmarksnewcanaan.org/wp-content/uploads/2024/02/StMark-slogo-405w.png
END:VEVENT
BEGIN:VEVENT
DTSTART;TZID=America/New_York:20231101T083000
DTEND;TZID=America/New_York:20231101T090000
DTSTAMP:20260421T052746
CREATED:20230918T212439Z
LAST-MODIFIED:20251204T224149Z
UID:10011419-1698827400-1698829200@www.stmarksnewcanaan.org
SUMMARY:Morning Prayer
DESCRIPTION:
URL:https://www.stmarksnewcanaan.org/event/morning-prayer/2023-11-01/
LOCATION:CT
ATTACH;FMTTYPE=image/png:https://www.stmarksnewcanaan.org/wp-content/uploads/2024/02/StMark-slogo-405w.png
END:VEVENT
BEGIN:VEVENT
DTSTART;TZID=America/New_York:20231101T120500
DTEND;TZID=America/New_York:20231101T123000
DTSTAMP:20260421T052746
CREATED:20230918T211304Z
LAST-MODIFIED:20241224T155655Z
UID:10014257-1698840300-1698841800@www.stmarksnewcanaan.org
SUMMARY:Holy Eucharist Rite II
DESCRIPTION:
URL:https://www.stmarksnewcanaan.org/event/holy-eucharist-rite-ii/2023-11-01/
LOCATION:CT
CATEGORIES:Home,Worship
ATTACH;FMTTYPE=image/jpeg:https://www.stmarksnewcanaan.org/wp-content/uploads/2024/08/10AM.jpg
END:VEVENT
BEGIN:VEVENT
DTSTART;TZID=America/New_York:20231102T083000
DTEND;TZID=America/New_York:20231102T090000
DTSTAMP:20260421T052746
CREATED:20230918T212439Z
LAST-MODIFIED:20251204T224149Z
UID:10011420-1698913800-1698915600@www.stmarksnewcanaan.org
SUMMARY:Morning Prayer
DESCRIPTION:
URL:https://www.stmarksnewcanaan.org/event/morning-prayer/2023-11-02/
LOCATION:CT
ATTACH;FMTTYPE=image/png:https://www.stmarksnewcanaan.org/wp-content/uploads/2024/02/StMark-slogo-405w.png
END:VEVENT
BEGIN:VEVENT
DTSTART;TZID=America/New_York:20231103T083000
DTEND;TZID=America/New_York:20231103T090000
DTSTAMP:20260421T052746
CREATED:20230918T212439Z
LAST-MODIFIED:20251204T224149Z
UID:10011421-1699000200-1699002000@www.stmarksnewcanaan.org
SUMMARY:Morning Prayer
DESCRIPTION:
URL:https://www.stmarksnewcanaan.org/event/morning-prayer/2023-11-03/
LOCATION:CT
ATTACH;FMTTYPE=image/png:https://www.stmarksnewcanaan.org/wp-content/uploads/2024/02/StMark-slogo-405w.png
END:VEVENT
BEGIN:VEVENT
DTSTART;TZID=America/New_York:20231105T080000
DTEND;TZID=America/New_York:20231105T090000
DTSTAMP:20260421T052746
CREATED:20230915T013617Z
LAST-MODIFIED:20250221T230944Z
UID:10013246-1699171200-1699174800@www.stmarksnewcanaan.org
SUMMARY:Holy Eucharist Rite I
DESCRIPTION:
URL:https://www.stmarksnewcanaan.org/event/holy-eucharist-rite-i/2023-11-05/
LOCATION:CT
CATEGORIES:Worship
ATTACH;FMTTYPE=image/jpeg:https://www.stmarksnewcanaan.org/wp-content/uploads/2024/08/8AM.jpg
END:VEVENT
END:VCALENDAR