BEGIN:VCALENDAR
VERSION:2.0
PRODID:-//St. Mark&#039;s, New Canaan - ECPv6.15.18//NONSGML v1.0//EN
CALSCALE:GREGORIAN
METHOD:PUBLISH
X-WR-CALNAME:St. Mark&#039;s, New Canaan
X-ORIGINAL-URL:https://www.stmarksnewcanaan.org
X-WR-CALDESC:Events for St. Mark&#039;s, New Canaan
REFRESH-INTERVAL;VALUE=DURATION:PT1H
X-Robots-Tag:noindex
X-PUBLISHED-TTL:PT1H
BEGIN:VTIMEZONE
TZID:America/New_York
BEGIN:DAYLIGHT
TZOFFSETFROM:-0500
TZOFFSETTO:-0400
TZNAME:EDT
DTSTART:20230312T070000
END:DAYLIGHT
BEGIN:STANDARD
TZOFFSETFROM:-0400
TZOFFSETTO:-0500
TZNAME:EST
DTSTART:20231105T060000
END:STANDARD
BEGIN:DAYLIGHT
TZOFFSETFROM:-0500
TZOFFSETTO:-0400
TZNAME:EDT
DTSTART:20240310T070000
END:DAYLIGHT
BEGIN:STANDARD
TZOFFSETFROM:-0400
TZOFFSETTO:-0500
TZNAME:EST
DTSTART:20241103T060000
END:STANDARD
BEGIN:DAYLIGHT
TZOFFSETFROM:-0500
TZOFFSETTO:-0400
TZNAME:EDT
DTSTART:20250309T070000
END:DAYLIGHT
BEGIN:STANDARD
TZOFFSETFROM:-0400
TZOFFSETTO:-0500
TZNAME:EST
DTSTART:20251102T060000
END:STANDARD
END:VTIMEZONE
BEGIN:VEVENT
DTSTART;TZID=America/New_York:20241006T100000
DTEND;TZID=America/New_York:20241006T110000
DTSTAMP:20260419T105511
CREATED:20230918T210230Z
LAST-MODIFIED:20250221T230426Z
UID:10010825-1728208800-1728212400@www.stmarksnewcanaan.org
SUMMARY:Holy Eucharist Rite II with Live Stream
DESCRIPTION:
URL:https://www.stmarksnewcanaan.org/event/holy-eucharist-rite-ii-with-live-stream/2024-10-06/
LOCATION:CT
CATEGORIES:Home,Worship
ATTACH;FMTTYPE=image/jpeg:https://www.stmarksnewcanaan.org/wp-content/uploads/2024/08/10AM.jpg
END:VEVENT
BEGIN:VEVENT
DTSTART;TZID=America/New_York:20241006T110000
DTEND;TZID=America/New_York:20241006T120000
DTSTAMP:20260419T105511
CREATED:20240903T160624Z
LAST-MODIFIED:20250826T195946Z
UID:10008265-1728212400-1728216000@www.stmarksnewcanaan.org
SUMMARY:World's Greatest Coffee Hour
DESCRIPTION:Stay after the 10:00 service for the “second sacred meal” where we form community and relationships. Greet familiar friends and meet new ones. Wear your nametag and introduce yourself to someone you do not know. \nIt takes many hands to make hospitality. Click here to choose the dates you can help!
URL:https://www.stmarksnewcanaan.org/event/coffee-hour-2/2024-10-06/
LOCATION:CT
CATEGORIES:Community
ATTACH;FMTTYPE=image/jpeg:https://www.stmarksnewcanaan.org/wp-content/uploads/2024/08/Picnic-scaled-1.jpg
END:VEVENT
BEGIN:VEVENT
DTSTART;TZID=America/New_York:20241006T113000
DTEND;TZID=America/New_York:20241006T123000
DTSTAMP:20260419T105511
CREATED:20240927T224653Z
LAST-MODIFIED:20241010T150820Z
UID:10008523-1728214200-1728217800@www.stmarksnewcanaan.org
SUMMARY:Confirmation Class
DESCRIPTION:
URL:https://www.stmarksnewcanaan.org/event/confirmation-2-2/2024-10-06/
LOCATION:Hugs
CATEGORIES:Classes & Forums,Youth
END:VEVENT
BEGIN:VEVENT
DTSTART;TZID=America/New_York:20241006T160000
DTEND;TZID=America/New_York:20241006T163000
DTSTAMP:20260419T105511
CREATED:20240920T202913Z
LAST-MODIFIED:20240920T204554Z
UID:10014245-1728230400-1728232200@www.stmarksnewcanaan.org
SUMMARY:Pet Memorial Service
DESCRIPTION:Losing a beloved pet can bring intense sorrow and a unique kind of profound grief. If you have lost a beloved animal friend\, join the Rev. Elizabeth Garnsey in the Chapel to celebrate\, bless\, and give thanks for the lives of the pets we love\, but see no longer. Bring a memento\, toy\, or picture in memory of your pet to lay on the alter as we commit them back to God.
URL:https://www.stmarksnewcanaan.org/event/pet-memorial-service/
LOCATION:St. Mark’s Chapel\, 111 Oenoke Ridge\, New Canaan\, CT\, 06840\, United States
CATEGORIES:Home,Special Events,Worship
ATTACH;FMTTYPE=image/jpeg:https://www.stmarksnewcanaan.org/wp-content/uploads/2024/09/St-Francis-scaled-e1726864135993.jpg
ORGANIZER;CN="Rev. Elizabeth Garnsey":MAILTO:egarnsey@stmarksnewcanaan.org
END:VEVENT
BEGIN:VEVENT
DTSTART;TZID=America/New_York:20241006T170000
DTEND;TZID=America/New_York:20241006T180000
DTSTAMP:20260419T105511
CREATED:20240920T205117Z
LAST-MODIFIED:20240920T205117Z
UID:10014246-1728234000-1728237600@www.stmarksnewcanaan.org
SUMMARY:Blessing of the Animals
DESCRIPTION:This annual service\, in observance of the Feast of St. Francis\, will take place under the Arcade. Dogs\, cats\, birds\, horses\, and critters of all shapes and sizes are welcome. Stuffed animals too! This service takes the place of the 5PM Holy Eucharist.
URL:https://www.stmarksnewcanaan.org/event/blessing-of-the-animals/
LOCATION:St. Mark’s Courtyard\, 111 Oenoke Ridge\, New Canaan\, CT\, 06840\, United States
CATEGORIES:Home,Special Events,Worship
ATTACH;FMTTYPE=image/jpeg:https://www.stmarksnewcanaan.org/wp-content/uploads/2024/09/Blessing-of-Animals-JMK-scaled.jpg
END:VEVENT
BEGIN:VEVENT
DTSTART;TZID=America/New_York:20241006T180000
DTEND;TZID=America/New_York:20241006T200000
DTSTAMP:20260419T105511
CREATED:20240907T164448Z
LAST-MODIFIED:20241002T141439Z
UID:10013909-1728237600-1728244800@www.stmarksnewcanaan.org
SUMMARY:Youth Group Movie Night - Pope Francis: A Man of His Word
DESCRIPTION:
URL:https://www.stmarksnewcanaan.org/event/youth-group-movie-night-pope-francis-a-man-of-his-word/
LOCATION:St. Mark’s Youth Room\, 111 Oenoke Ridge\, New Canaan\, CT\, United States
CATEGORIES:Youth
ATTACH;FMTTYPE=image/jpeg:https://www.stmarksnewcanaan.org/wp-content/uploads/2024/09/Youth-Francis-movie.jpg
ORGANIZER;CN="Fr. John Kennedy":MAILTO:jkennedy@stmarksnewcanaan.org
END:VEVENT
BEGIN:VEVENT
DTSTART;TZID=America/New_York:20241006T190000
DTEND;TZID=America/New_York:20241006T200000
DTSTAMP:20260419T105511
CREATED:20231127T221018Z
LAST-MODIFIED:20240919T190947Z
UID:10008825-1728241200-1728244800@www.stmarksnewcanaan.org
SUMMARY:Alateen
DESCRIPTION:
URL:https://www.stmarksnewcanaan.org/event/alateen-2/2024-10-06/
LOCATION:CT
CATEGORIES:Community
ATTACH;FMTTYPE=image/jpeg:https://www.stmarksnewcanaan.org/wp-content/uploads/2024/08/Alateen-1.jpg
END:VEVENT
BEGIN:VEVENT
DTSTART;TZID=America/New_York:20241007T083000
DTEND;TZID=America/New_York:20241007T090000
DTSTAMP:20260419T105511
CREATED:20230918T212439Z
LAST-MODIFIED:20251204T224149Z
UID:10011661-1728289800-1728291600@www.stmarksnewcanaan.org
SUMMARY:Morning Prayer
DESCRIPTION:
URL:https://www.stmarksnewcanaan.org/event/morning-prayer/2024-10-07/
LOCATION:CT
ATTACH;FMTTYPE=image/png:https://www.stmarksnewcanaan.org/wp-content/uploads/2024/02/StMark-slogo-405w.png
END:VEVENT
BEGIN:VEVENT
DTSTART;TZID=America/New_York:20241007T190000
DTEND;TZID=America/New_York:20241007T200000
DTSTAMP:20260419T105511
CREATED:20240919T154534Z
LAST-MODIFIED:20241224T174227Z
UID:10013920-1728327600-1728331200@www.stmarksnewcanaan.org
SUMMARY:Mondays with Merton Book Group
DESCRIPTION:Join us for a new reading and discussion group based on the writings of Thomas Merton (1915-1968)\, a Trappist monk and one of the great spiritual figures of our time. “Mondays with Merton” will be led by Fr. John and Emma Kennedy\, PhD\, and will meet on Mondays from 7-8pm in the St. Mark’s library. Emma and John met through their shared interest in Thomas Merton and led a Merton reading group together while students at Yale Divinity School. They are excited to bring this offering to St. Mark’s and to share their love of Merton with the community. \nWe will read Conjectures of a Guilty Bystander (1966)\, a series of notes\, opinions\, experiences and reflections in which Merton examines some of the most urgent questions of our age. With his characteristic forcefulness and candor\, he brings readers face-to-face with such provocative and controversial issues as the “death of God\,” politics\, modern life and values\, and racial strife–issues that are as relevant today as they were in the 1960s. \nEach session will begin with 10 minutes of silent contemplative prayer to ground ourselves in the Spirit and open our hearts before engaging our minds. Participants are encouraged to read the first half of Part One (pp. 1-26) before the first meeting. The book can be purchased from bookshop.org or from your preferred bookseller.  \nSyllabus\, Registration and more here.
URL:https://www.stmarksnewcanaan.org/event/mondays-with-merton-book-group/2024-10-07/
LOCATION:St. Mark’s Library
CATEGORIES:Classes & Forums
ATTACH;FMTTYPE=image/jpeg:https://www.stmarksnewcanaan.org/wp-content/uploads/2024/09/Merton-Conjectures-e1726760646987.jpeg
ORGANIZER;CN="Fr. John Kennedy":MAILTO:jkennedy@stmarksnewcanaan.org
END:VEVENT
BEGIN:VEVENT
DTSTART;TZID=America/New_York:20241008T083000
DTEND;TZID=America/New_York:20241008T090000
DTSTAMP:20260419T105511
CREATED:20230918T212439Z
LAST-MODIFIED:20251204T224149Z
UID:10011662-1728376200-1728378000@www.stmarksnewcanaan.org
SUMMARY:Morning Prayer
DESCRIPTION:
URL:https://www.stmarksnewcanaan.org/event/morning-prayer/2024-10-08/
LOCATION:CT
ATTACH;FMTTYPE=image/png:https://www.stmarksnewcanaan.org/wp-content/uploads/2024/02/StMark-slogo-405w.png
END:VEVENT
BEGIN:VEVENT
DTSTART;TZID=America/New_York:20241008T100000
DTEND;TZID=America/New_York:20241008T110000
DTSTAMP:20260419T105511
CREATED:20231107T231258Z
LAST-MODIFIED:20240817T195616Z
UID:10007958-1728381600-1728385200@www.stmarksnewcanaan.org
SUMMARY:AA
DESCRIPTION:
URL:https://www.stmarksnewcanaan.org/event/aa/2024-10-08/
LOCATION:CT
CATEGORIES:Community
END:VEVENT
BEGIN:VEVENT
DTSTART;TZID=America/New_York:20241008T120000
DTEND;TZID=America/New_York:20241008T130000
DTSTAMP:20260419T105511
CREATED:20231127T222214Z
LAST-MODIFIED:20240817T195605Z
UID:10007656-1728388800-1728392400@www.stmarksnewcanaan.org
SUMMARY:Alanon Tuesdays
DESCRIPTION:
URL:https://www.stmarksnewcanaan.org/event/alanon-tuesdays/2024-10-08/
LOCATION:Hugs
CATEGORIES:Community
END:VEVENT
BEGIN:VEVENT
DTSTART;TZID=America/New_York:20241009T083000
DTEND;TZID=America/New_York:20241009T090000
DTSTAMP:20260419T105511
CREATED:20230918T212439Z
LAST-MODIFIED:20251204T224149Z
UID:10011663-1728462600-1728464400@www.stmarksnewcanaan.org
SUMMARY:Morning Prayer
DESCRIPTION:
URL:https://www.stmarksnewcanaan.org/event/morning-prayer/2024-10-09/
LOCATION:CT
ATTACH;FMTTYPE=image/png:https://www.stmarksnewcanaan.org/wp-content/uploads/2024/02/StMark-slogo-405w.png
END:VEVENT
BEGIN:VEVENT
DTSTART;TZID=America/New_York:20241009T084500
DTEND;TZID=America/New_York:20241009T093000
DTSTAMP:20260419T105511
CREATED:20240126T230659Z
LAST-MODIFIED:20240817T195846Z
UID:10009118-1728463500-1728466200@www.stmarksnewcanaan.org
SUMMARY:Praying of the Rosary
DESCRIPTION:Via conference call at 978-990-5000   Access Code: 811368
URL:https://www.stmarksnewcanaan.org/event/praying-of-the-rosary/2024-10-09/
LOCATION:CT
CATEGORIES:Worship
END:VEVENT
BEGIN:VEVENT
DTSTART;TZID=America/New_York:20241009T120500
DTEND;TZID=America/New_York:20241009T123000
DTSTAMP:20260419T105511
CREATED:20230918T211304Z
LAST-MODIFIED:20241224T155655Z
UID:10014305-1728475500-1728477000@www.stmarksnewcanaan.org
SUMMARY:Holy Eucharist Rite II
DESCRIPTION:
URL:https://www.stmarksnewcanaan.org/event/holy-eucharist-rite-ii/2024-10-09/
LOCATION:CT
CATEGORIES:Home,Worship
ATTACH;FMTTYPE=image/jpeg:https://www.stmarksnewcanaan.org/wp-content/uploads/2024/08/10AM.jpg
END:VEVENT
BEGIN:VEVENT
DTSTART;TZID=America/New_York:20241010T083000
DTEND;TZID=America/New_York:20241010T090000
DTSTAMP:20260419T105511
CREATED:20230918T212439Z
LAST-MODIFIED:20251204T224149Z
UID:10011664-1728549000-1728550800@www.stmarksnewcanaan.org
SUMMARY:Morning Prayer
DESCRIPTION:
URL:https://www.stmarksnewcanaan.org/event/morning-prayer/2024-10-10/
LOCATION:CT
ATTACH;FMTTYPE=image/png:https://www.stmarksnewcanaan.org/wp-content/uploads/2024/02/StMark-slogo-405w.png
END:VEVENT
BEGIN:VEVENT
DTSTART;TZID=America/New_York:20241010T190000
DTEND;TZID=America/New_York:20241010T203000
DTSTAMP:20260419T105511
CREATED:20231109T210334Z
LAST-MODIFIED:20251204T223958Z
UID:10010517-1728586800-1728592200@www.stmarksnewcanaan.org
SUMMARY:New Canaan Parent Support Group
DESCRIPTION:
URL:https://www.stmarksnewcanaan.org/event/new-canaan-parent-support-group/2024-10-10/
LOCATION:CT
END:VEVENT
BEGIN:VEVENT
DTSTART;TZID=America/New_York:20241011T080000
DTEND;TZID=America/New_York:20241015T170000
DTSTAMP:20260419T105511
CREATED:20240708T230640Z
LAST-MODIFIED:20240907T153922Z
UID:10007506-1728633600-1729011600@www.stmarksnewcanaan.org
SUMMARY:Civil Rights 101: A Pilgrimage
DESCRIPTION:Join Fr. Peter and others from St. Mark’s as we follow the trail of those who marched\, protested\, and died in the struggle to attain basic civil and voting rights. Atlanta-Montgomery-Selma-Birmingham. \nSee the complete brochure here. \nRegistration deadline is Friday\, September 13. Register now. \nFor more information on this trip and to save a spot\, please contact Beth Ralston\, Director of Special Projects at bralston@stmarksnewcanaan.org or call the church office: 203-966-4515
URL:https://www.stmarksnewcanaan.org/event/civil-rights-101-a-pilgrimage/
LOCATION:CT
CATEGORIES:Community,Home,Pilgrimage,Special Events
ATTACH;FMTTYPE=image/jpeg:https://www.stmarksnewcanaan.org/wp-content/uploads/2024/07/Civil-rights-101-thumb-scaled.jpg
END:VEVENT
BEGIN:VEVENT
DTSTART;TZID=America/New_York:20241011T083000
DTEND;TZID=America/New_York:20241011T090000
DTSTAMP:20260419T105511
CREATED:20230918T212439Z
LAST-MODIFIED:20251204T224149Z
UID:10011665-1728635400-1728637200@www.stmarksnewcanaan.org
SUMMARY:Morning Prayer
DESCRIPTION:
URL:https://www.stmarksnewcanaan.org/event/morning-prayer/2024-10-11/
LOCATION:CT
ATTACH;FMTTYPE=image/png:https://www.stmarksnewcanaan.org/wp-content/uploads/2024/02/StMark-slogo-405w.png
END:VEVENT
BEGIN:VEVENT
DTSTART;TZID=America/New_York:20241011T090000
DTEND;TZID=America/New_York:20241011T113000
DTSTAMP:20260419T105511
CREATED:20231109T222100Z
LAST-MODIFIED:20240817T201737Z
UID:10010184-1728637200-1728646200@www.stmarksnewcanaan.org
SUMMARY:NC Men's Club
DESCRIPTION:The New Canaan Men’s Club was founded in 1977 by a group of men who met regularly at the Y to play racquetball. \nWhile we have grown quite a bit since then\, friendship and fellowship remain core to our Club. We meet on Friday mornings in Morrill Hall at St. Mark’s Episcopal Church\, but we are both nonreligious and nonpartisan. \nOur Members come from New Canaan and surrounding communities. They bring diverse experiences from their careers\, talents\, travels\, and lives. What brings us together is the variety of activities and interests Club Members share. Explore our website and calendar to see the many and varied activities that are available to all Members. Each Friday meeting has a speaker covering an interesting and often timely topic so we are constantly learning
URL:https://www.stmarksnewcanaan.org/event/nc-mens-club-2/2024-10-11/
LOCATION:CT
END:VEVENT
BEGIN:VEVENT
DTSTART;TZID=America/New_York:20241013T080000
DTEND;TZID=America/New_York:20241013T090000
DTSTAMP:20260419T105511
CREATED:20230915T013617Z
LAST-MODIFIED:20250221T230944Z
UID:10013294-1728806400-1728810000@www.stmarksnewcanaan.org
SUMMARY:Holy Eucharist Rite I
DESCRIPTION:
URL:https://www.stmarksnewcanaan.org/event/holy-eucharist-rite-i/2024-10-13/
LOCATION:CT
CATEGORIES:Worship
ATTACH;FMTTYPE=image/jpeg:https://www.stmarksnewcanaan.org/wp-content/uploads/2024/08/8AM.jpg
END:VEVENT
BEGIN:VEVENT
DTSTART;TZID=America/New_York:20241013T090000
DTEND;TZID=America/New_York:20241013T100000
DTSTAMP:20260419T105511
CREATED:20230915T014458Z
LAST-MODIFIED:20250221T230728Z
UID:10012986-1728810000-1728813600@www.stmarksnewcanaan.org
SUMMARY:Outdoor Holy Eucharist Rite II
DESCRIPTION:
URL:https://www.stmarksnewcanaan.org/event/outdoor-holy-eucharist-rite-ii/2024-10-13/
LOCATION:CT
CATEGORIES:Worship
ATTACH;FMTTYPE=image/jpeg:https://www.stmarksnewcanaan.org/wp-content/uploads/2024/08/9AM.jpg
END:VEVENT
BEGIN:VEVENT
DTSTART;TZID=America/New_York:20241013T100000
DTEND;TZID=America/New_York:20241013T110000
DTSTAMP:20260419T105511
CREATED:20230918T210230Z
LAST-MODIFIED:20250221T230426Z
UID:10010826-1728813600-1728817200@www.stmarksnewcanaan.org
SUMMARY:Holy Eucharist Rite II with Live Stream
DESCRIPTION:
URL:https://www.stmarksnewcanaan.org/event/holy-eucharist-rite-ii-with-live-stream/2024-10-13/
LOCATION:CT
CATEGORIES:Home,Worship
ATTACH;FMTTYPE=image/jpeg:https://www.stmarksnewcanaan.org/wp-content/uploads/2024/08/10AM.jpg
END:VEVENT
BEGIN:VEVENT
DTSTART;TZID=America/New_York:20241013T110000
DTEND;TZID=America/New_York:20241013T120000
DTSTAMP:20260419T105511
CREATED:20240903T160624Z
LAST-MODIFIED:20250826T195946Z
UID:10008266-1728817200-1728820800@www.stmarksnewcanaan.org
SUMMARY:World's Greatest Coffee Hour
DESCRIPTION:Stay after the 10:00 service for the “second sacred meal” where we form community and relationships. Greet familiar friends and meet new ones. Wear your nametag and introduce yourself to someone you do not know. \nIt takes many hands to make hospitality. Click here to choose the dates you can help!
URL:https://www.stmarksnewcanaan.org/event/coffee-hour-2/2024-10-13/
LOCATION:CT
CATEGORIES:Community
ATTACH;FMTTYPE=image/jpeg:https://www.stmarksnewcanaan.org/wp-content/uploads/2024/08/Picnic-scaled-1.jpg
END:VEVENT
BEGIN:VEVENT
DTSTART;TZID=America/New_York:20241013T170000
DTEND;TZID=America/New_York:20241013T173000
DTSTAMP:20260419T105511
CREATED:20240920T201612Z
LAST-MODIFIED:20241031T152638Z
UID:10013986-1728838800-1728840600@www.stmarksnewcanaan.org
SUMMARY:Holy Eucharist
DESCRIPTION:Join us for our Sunday 5PM contemplative service of Holy Eucharist in the chapel. This intimate and reflective service offers a quieter\, more meditative worship experience\, inviting you to pause\, pray\, and receive communion in a serene setting. Come as you are and find rest and renewal in God’s presence at the close of the day.
URL:https://www.stmarksnewcanaan.org/event/holy-eucharist/2024-10-13/
LOCATION:St. Mark’s Chapel\, 111 Oenoke Ridge\, New Canaan\, CT\, 06840\, United States
CATEGORIES:Worship
ATTACH;FMTTYPE=image/jpeg:https://www.stmarksnewcanaan.org/wp-content/uploads/2024/09/5PM-scaled-e1726863348558.jpg
END:VEVENT
BEGIN:VEVENT
DTSTART;TZID=America/New_York:20241013T190000
DTEND;TZID=America/New_York:20241013T200000
DTSTAMP:20260419T105511
CREATED:20231127T221018Z
LAST-MODIFIED:20240919T190947Z
UID:10008826-1728846000-1728849600@www.stmarksnewcanaan.org
SUMMARY:Alateen
DESCRIPTION:
URL:https://www.stmarksnewcanaan.org/event/alateen-2/2024-10-13/
LOCATION:CT
CATEGORIES:Community
ATTACH;FMTTYPE=image/jpeg:https://www.stmarksnewcanaan.org/wp-content/uploads/2024/08/Alateen-1.jpg
END:VEVENT
BEGIN:VEVENT
DTSTART;VALUE=DATE:20241014
DTEND;VALUE=DATE:20241015
DTSTAMP:20260419T105511
CREATED:20241010T152600Z
LAST-MODIFIED:20241010T152600Z
UID:10014568-1728864000-1728950399@www.stmarksnewcanaan.org
SUMMARY:Church Office Closed
DESCRIPTION:
URL:https://www.stmarksnewcanaan.org/event/church-office-closed-3/
LOCATION:CT
END:VEVENT
BEGIN:VEVENT
DTSTART;TZID=America/New_York:20241014T083000
DTEND;TZID=America/New_York:20241014T090000
DTSTAMP:20260419T105511
CREATED:20230918T212439Z
LAST-MODIFIED:20251204T224149Z
UID:10011666-1728894600-1728896400@www.stmarksnewcanaan.org
SUMMARY:Morning Prayer
DESCRIPTION:
URL:https://www.stmarksnewcanaan.org/event/morning-prayer/2024-10-14/
LOCATION:CT
ATTACH;FMTTYPE=image/png:https://www.stmarksnewcanaan.org/wp-content/uploads/2024/02/StMark-slogo-405w.png
END:VEVENT
BEGIN:VEVENT
DTSTART;TZID=America/New_York:20241015T083000
DTEND;TZID=America/New_York:20241015T090000
DTSTAMP:20260419T105511
CREATED:20230918T212439Z
LAST-MODIFIED:20251204T224149Z
UID:10011667-1728981000-1728982800@www.stmarksnewcanaan.org
SUMMARY:Morning Prayer
DESCRIPTION:
URL:https://www.stmarksnewcanaan.org/event/morning-prayer/2024-10-15/
LOCATION:CT
ATTACH;FMTTYPE=image/png:https://www.stmarksnewcanaan.org/wp-content/uploads/2024/02/StMark-slogo-405w.png
END:VEVENT
BEGIN:VEVENT
DTSTART;TZID=America/New_York:20241015T100000
DTEND;TZID=America/New_York:20241015T110000
DTSTAMP:20260419T105511
CREATED:20231107T231258Z
LAST-MODIFIED:20240817T195616Z
UID:10007959-1728986400-1728990000@www.stmarksnewcanaan.org
SUMMARY:AA
DESCRIPTION:
URL:https://www.stmarksnewcanaan.org/event/aa/2024-10-15/
LOCATION:CT
CATEGORIES:Community
END:VEVENT
END:VCALENDAR