BEGIN:VCALENDAR
VERSION:2.0
PRODID:-//St. Mark&#039;s, New Canaan - ECPv6.15.18//NONSGML v1.0//EN
CALSCALE:GREGORIAN
METHOD:PUBLISH
X-WR-CALNAME:St. Mark&#039;s, New Canaan
X-ORIGINAL-URL:https://www.stmarksnewcanaan.org
X-WR-CALDESC:Events for St. Mark&#039;s, New Canaan
REFRESH-INTERVAL;VALUE=DURATION:PT1H
X-Robots-Tag:noindex
X-PUBLISHED-TTL:PT1H
BEGIN:VTIMEZONE
TZID:America/New_York
BEGIN:DAYLIGHT
TZOFFSETFROM:-0500
TZOFFSETTO:-0400
TZNAME:EDT
DTSTART:20250309T070000
END:DAYLIGHT
BEGIN:STANDARD
TZOFFSETFROM:-0400
TZOFFSETTO:-0500
TZNAME:EST
DTSTART:20251102T060000
END:STANDARD
BEGIN:DAYLIGHT
TZOFFSETFROM:-0500
TZOFFSETTO:-0400
TZNAME:EDT
DTSTART:20260308T070000
END:DAYLIGHT
BEGIN:STANDARD
TZOFFSETFROM:-0400
TZOFFSETTO:-0500
TZNAME:EST
DTSTART:20261101T060000
END:STANDARD
BEGIN:DAYLIGHT
TZOFFSETFROM:-0500
TZOFFSETTO:-0400
TZNAME:EDT
DTSTART:20270314T070000
END:DAYLIGHT
BEGIN:STANDARD
TZOFFSETFROM:-0400
TZOFFSETTO:-0500
TZNAME:EST
DTSTART:20271107T060000
END:STANDARD
END:VTIMEZONE
BEGIN:VEVENT
DTSTART;TZID=America/New_York:20260410T090000
DTEND;TZID=America/New_York:20260410T113000
DTSTAMP:20260423T154858
CREATED:20250707T202614Z
LAST-MODIFIED:20250707T202614Z
UID:10010262-1775811600-1775820600@www.stmarksnewcanaan.org
SUMMARY:NC Men's Club
DESCRIPTION:The New Canaan Men’s Club was founded in 1977 by a group of men who met regularly at the Y to play racquetball. \nWhile we have grown quite a bit since then\, friendship and fellowship remain core to our Club. We meet on Friday mornings in Morrill Hall at St. Mark’s Episcopal Church\, but we are both nonreligious and nonpartisan. \nOur Members come from New Canaan and surrounding communities. They bring diverse experiences from their careers\, talents\, travels\, and lives. What brings us together is the variety of activities and interests Club Members share. Explore our website and calendar to see the many and varied activities that are available to all Members. Each Friday meeting has a speaker covering an interesting and often timely topic so we are constantly learning
URL:https://www.stmarksnewcanaan.org/event/nc-mens-club-2-2-2/2026-04-10/
END:VEVENT
BEGIN:VEVENT
DTSTART;TZID=America/New_York:20260410T083000
DTEND;TZID=America/New_York:20260410T090000
DTSTAMP:20260423T154858
CREATED:20230918T212439Z
LAST-MODIFIED:20251204T224149Z
UID:10012055-1775809800-1775811600@www.stmarksnewcanaan.org
SUMMARY:Morning Prayer
DESCRIPTION:
URL:https://www.stmarksnewcanaan.org/event/morning-prayer/2026-04-10/
ATTACH;FMTTYPE=image/png:https://www.stmarksnewcanaan.org/wp-content/uploads/2024/02/StMark-slogo-405w.png
END:VEVENT
BEGIN:VEVENT
DTSTART;TZID=America/New_York:20260409T190000
DTEND;TZID=America/New_York:20260409T210000
DTSTAMP:20260423T154858
CREATED:20240619T232201Z
LAST-MODIFIED:20251204T224058Z
UID:10009473-1775761200-1775768400@www.stmarksnewcanaan.org
SUMMARY:BSA Troop 70
DESCRIPTION:
URL:https://www.stmarksnewcanaan.org/event/bsa-troop-70-2/2026-04-09/
END:VEVENT
BEGIN:VEVENT
DTSTART;TZID=America/New_York:20260409T190000
DTEND;TZID=America/New_York:20260409T203000
DTSTAMP:20260423T154858
CREATED:20231109T210334Z
LAST-MODIFIED:20251204T223958Z
UID:10010595-1775761200-1775766600@www.stmarksnewcanaan.org
SUMMARY:New Canaan Parent Support Group
DESCRIPTION:
URL:https://www.stmarksnewcanaan.org/event/new-canaan-parent-support-group/2026-04-09/
END:VEVENT
BEGIN:VEVENT
DTSTART;TZID=America/New_York:20260409T121500
DTEND;TZID=America/New_York:20260409T124500
DTSTAMP:20260423T154858
CREATED:20260415T142658Z
LAST-MODIFIED:20260415T155726Z
UID:10016206-1775736900-1775738700@www.stmarksnewcanaan.org
SUMMARY:Centering Prayer with Rev. Elizabeth
DESCRIPTION:Join Rev. Elizabeth in the Church on Thursdays from 12:15-12:45 for a brief reflection\, instruction\, and 20-minutes of group Centering Prayer. \nCentering Prayer is a Christian silent practice of releasing thoughts as they come\, regardless of content\, during a period of 20 minutes. The fruit of the practice is a deeper level of awareness of God’s indwelling presence\, and spending time resting in that presence. This practice of ‘self-emptying’ (Philippians 2-11) aligns us with the self-emptying love that forms the core of Jesus’s own self-understanding and way of life. \nNo need to sign up. Please arrive on time in order to enter into silence as a group.
URL:https://www.stmarksnewcanaan.org/event/centering-prayer-with-rev-elizabeth-copy/2026-04-09/
LOCATION:St. Mark’s Episcopal Church\, 111 Oenoke Ridge\, New Canaan\, CT\, 06840
CATEGORIES:Community,Home,Prayer
ORGANIZER;CN="Rev. Elizabeth Garnsey":MAILTO:egarnsey@stmarksnewcanaan.org
END:VEVENT
BEGIN:VEVENT
DTSTART;TZID=America/New_York:20260409T083000
DTEND;TZID=America/New_York:20260409T090000
DTSTAMP:20260423T154858
CREATED:20230918T212439Z
LAST-MODIFIED:20251204T224149Z
UID:10012054-1775723400-1775725200@www.stmarksnewcanaan.org
SUMMARY:Morning Prayer
DESCRIPTION:
URL:https://www.stmarksnewcanaan.org/event/morning-prayer/2026-04-09/
ATTACH;FMTTYPE=image/png:https://www.stmarksnewcanaan.org/wp-content/uploads/2024/02/StMark-slogo-405w.png
END:VEVENT
BEGIN:VEVENT
DTSTART;TZID=America/New_York:20260408T084500
DTEND;TZID=America/New_York:20260408T093000
DTSTAMP:20260423T154858
CREATED:20240126T230659Z
LAST-MODIFIED:20240817T195846Z
UID:10009196-1775637900-1775640600@www.stmarksnewcanaan.org
SUMMARY:Praying of the Rosary
DESCRIPTION:Via conference call at 978-990-5000   Access Code: 811368
URL:https://www.stmarksnewcanaan.org/event/praying-of-the-rosary/2026-04-08/
CATEGORIES:Worship
END:VEVENT
BEGIN:VEVENT
DTSTART;TZID=America/New_York:20260408T083000
DTEND;TZID=America/New_York:20260408T090000
DTSTAMP:20260423T154858
CREATED:20230918T212439Z
LAST-MODIFIED:20251204T224149Z
UID:10012053-1775637000-1775638800@www.stmarksnewcanaan.org
SUMMARY:Morning Prayer
DESCRIPTION:
URL:https://www.stmarksnewcanaan.org/event/morning-prayer/2026-04-08/
ATTACH;FMTTYPE=image/png:https://www.stmarksnewcanaan.org/wp-content/uploads/2024/02/StMark-slogo-405w.png
END:VEVENT
BEGIN:VEVENT
DTSTART;TZID=America/New_York:20260407T120000
DTEND;TZID=America/New_York:20260407T130000
DTSTAMP:20260423T154858
CREATED:20231127T222214Z
LAST-MODIFIED:20240817T195605Z
UID:10007734-1775563200-1775566800@www.stmarksnewcanaan.org
SUMMARY:Alanon Tuesdays
DESCRIPTION:
URL:https://www.stmarksnewcanaan.org/event/alanon-tuesdays/2026-04-07/
LOCATION:Hugs
CATEGORIES:Community
END:VEVENT
BEGIN:VEVENT
DTSTART;TZID=America/New_York:20260407T100000
DTEND;TZID=America/New_York:20260407T110000
DTSTAMP:20260423T154858
CREATED:20231107T231258Z
LAST-MODIFIED:20240817T195616Z
UID:10008036-1775556000-1775559600@www.stmarksnewcanaan.org
SUMMARY:AA
DESCRIPTION:
URL:https://www.stmarksnewcanaan.org/event/aa/2026-04-07/
CATEGORIES:Community
END:VEVENT
BEGIN:VEVENT
DTSTART;TZID=America/New_York:20260407T083000
DTEND;TZID=America/New_York:20260407T090000
DTSTAMP:20260423T154858
CREATED:20230918T212439Z
LAST-MODIFIED:20251204T224149Z
UID:10012052-1775550600-1775552400@www.stmarksnewcanaan.org
SUMMARY:Morning Prayer
DESCRIPTION:
URL:https://www.stmarksnewcanaan.org/event/morning-prayer/2026-04-07/
ATTACH;FMTTYPE=image/png:https://www.stmarksnewcanaan.org/wp-content/uploads/2024/02/StMark-slogo-405w.png
END:VEVENT
BEGIN:VEVENT
DTSTART;TZID=America/New_York:20260406T083000
DTEND;TZID=America/New_York:20260406T090000
DTSTAMP:20260423T154858
CREATED:20230918T212439Z
LAST-MODIFIED:20251204T224149Z
UID:10012051-1775464200-1775466000@www.stmarksnewcanaan.org
SUMMARY:Morning Prayer
DESCRIPTION:
URL:https://www.stmarksnewcanaan.org/event/morning-prayer/2026-04-06/
ATTACH;FMTTYPE=image/png:https://www.stmarksnewcanaan.org/wp-content/uploads/2024/02/StMark-slogo-405w.png
END:VEVENT
BEGIN:VEVENT
DTSTART;TZID=America/New_York:20260405T190000
DTEND;TZID=America/New_York:20260405T200000
DTSTAMP:20260423T154858
CREATED:20231127T221018Z
LAST-MODIFIED:20240919T190947Z
UID:10008903-1775415600-1775419200@www.stmarksnewcanaan.org
SUMMARY:Alateen
DESCRIPTION:
URL:https://www.stmarksnewcanaan.org/event/alateen-2/2026-04-05/
CATEGORIES:Community
ATTACH;FMTTYPE=image/jpeg:https://www.stmarksnewcanaan.org/wp-content/uploads/2024/08/Alateen-1.jpg
END:VEVENT
BEGIN:VEVENT
DTSTART;TZID=America/New_York:20260405T110000
DTEND;TZID=America/New_York:20260405T120000
DTSTAMP:20260423T154858
CREATED:20260311T160330Z
LAST-MODIFIED:20260311T160439Z
UID:10014793-1775386800-1775390400@www.stmarksnewcanaan.org
SUMMARY:Easter Festival Choral Eucharist with Live Stream
DESCRIPTION:
URL:https://www.stmarksnewcanaan.org/event/easter-festival-choral-eucharist-with-live-stream-2/2026-04-05/2/
LOCATION:St. Mark’s Episcopal Church\, 111 Oenoke Ridge\, New Canaan\, CT\, 06840
CATEGORIES:Home,Special Events,Worship
ATTACH;FMTTYPE=image/jpeg:https://www.stmarksnewcanaan.org/wp-content/uploads/2024/08/IMG_3088-scaled-1.jpeg
END:VEVENT
BEGIN:VEVENT
DTSTART;TZID=America/New_York:20260405T103000
DTEND;TZID=America/New_York:20260405T110000
DTSTAMP:20260423T154858
CREATED:20260311T161645Z
LAST-MODIFIED:20260311T183646Z
UID:10015897-1775385000-1775386800@www.stmarksnewcanaan.org
SUMMARY:Church School Easter Egg Challenge
DESCRIPTION:It’s More than an Egg Hunt – It’s a Challenge! \n  \nChildren ages 3 and under will hunt for eggs in The Courtyard. \nChildren ages 4 through 12 will hunt on The Great Lawn. \n  \nHop to it!  We hope to see you there!
URL:https://www.stmarksnewcanaan.org/event/easter-egg-hunt/
LOCATION:Courtyard
CATEGORIES:Church School,Home,Special Events,Youth
ATTACH;FMTTYPE=image/jpeg:https://www.stmarksnewcanaan.org/wp-content/uploads/2026/03/Bunny-ears-in-balcony-scaled-e1773245794452.jpeg
ORGANIZER;CN="Jan Maynes":MAILTO:children@stmarksnewcanaan.org
END:VEVENT
BEGIN:VEVENT
DTSTART;TZID=America/New_York:20260405T090000
DTEND;TZID=America/New_York:20260405T100000
DTSTAMP:20260423T154858
CREATED:20260311T160330Z
LAST-MODIFIED:20260311T160439Z
UID:10014792-1775379600-1775383200@www.stmarksnewcanaan.org
SUMMARY:Easter Festival Choral Eucharist with Live Stream
DESCRIPTION:
URL:https://www.stmarksnewcanaan.org/event/easter-festival-choral-eucharist-with-live-stream-2/2026-04-05/1/
LOCATION:St. Mark’s Episcopal Church\, 111 Oenoke Ridge\, New Canaan\, CT\, 06840
CATEGORIES:Home,Special Events,Worship
ATTACH;FMTTYPE=image/jpeg:https://www.stmarksnewcanaan.org/wp-content/uploads/2024/08/IMG_3088-scaled-1.jpeg
END:VEVENT
BEGIN:VEVENT
DTSTART;TZID=America/New_York:20260405T070000
DTEND;TZID=America/New_York:20260405T073000
DTSTAMP:20260423T154858
CREATED:20260311T160257Z
LAST-MODIFIED:20260311T160257Z
UID:10014795-1775372400-1775374200@www.stmarksnewcanaan.org
SUMMARY:Easter Sunrise Eucharist
DESCRIPTION:
URL:https://www.stmarksnewcanaan.org/event/easter-sunrise-eucharist-2-2/
CATEGORIES:Home,Special Events,Worship
ATTACH;FMTTYPE=image/jpeg:https://www.stmarksnewcanaan.org/wp-content/uploads/2024/08/IMG_0629-scaled-1.jpeg
END:VEVENT
BEGIN:VEVENT
DTSTART;TZID=America/New_York:20260404T193000
DTEND;TZID=America/New_York:20260404T203000
DTSTAMP:20260423T154858
CREATED:20260311T160225Z
LAST-MODIFIED:20260311T160226Z
UID:10014798-1775331000-1775334600@www.stmarksnewcanaan.org
SUMMARY:Great Vigil of Easter
DESCRIPTION:
URL:https://www.stmarksnewcanaan.org/event/great-vigil-of-easter-2-2/
CATEGORIES:Home,Special Events,Worship
ATTACH;FMTTYPE=image/jpeg:https://www.stmarksnewcanaan.org/wp-content/uploads/2025/02/Easter-vigil-outside.jpg
END:VEVENT
BEGIN:VEVENT
DTSTART;TZID=America/New_York:20260404T080000
DTEND;TZID=America/New_York:20260404T090000
DTSTAMP:20260423T154858
CREATED:20240126T215136Z
LAST-MODIFIED:20250221T232607Z
UID:10014800-1775289600-1775293200@www.stmarksnewcanaan.org
SUMMARY:Liturgy of Holy Saturday
DESCRIPTION:
URL:https://www.stmarksnewcanaan.org/event/liturgy-of-holy-saturday-2/2026-04-04/
END:VEVENT
BEGIN:VEVENT
DTSTART;TZID=America/New_York:20260403T180000
DTEND;TZID=America/New_York:20260403T190000
DTSTAMP:20260423T154858
CREATED:20260311T160133Z
LAST-MODIFIED:20260311T160133Z
UID:10014802-1775239200-1775242800@www.stmarksnewcanaan.org
SUMMARY:Good Friday Holy Eucharist Rite II
DESCRIPTION:
URL:https://www.stmarksnewcanaan.org/event/holy-eucharist-rite-ii-with-choir-4-2/
CATEGORIES:Home,Special Events,Worship
ATTACH;FMTTYPE=image/jpeg:https://www.stmarksnewcanaan.org/wp-content/uploads/2025/02/Crucifix-and-Holy-Week-scaled-e1740169930366.jpg
END:VEVENT
BEGIN:VEVENT
DTSTART;TZID=America/New_York:20260403T120000
DTEND;TZID=America/New_York:20260403T130000
DTSTAMP:20260423T154858
CREATED:20260311T160021Z
LAST-MODIFIED:20260311T192654Z
UID:10014804-1775217600-1775221200@www.stmarksnewcanaan.org
SUMMARY:Good Friday Holy Eucharist Rite II with Choir
DESCRIPTION:
URL:https://www.stmarksnewcanaan.org/event/holy-eucharist-rite-ii-with-choir-3-2/
CATEGORIES:Home,Special Events,Worship
ATTACH;FMTTYPE=image/jpeg:https://www.stmarksnewcanaan.org/wp-content/uploads/2025/02/Crucifix-and-Holy-Week-scaled-e1740169930366.jpg
END:VEVENT
BEGIN:VEVENT
DTSTART;TZID=America/New_York:20260403T090000
DTEND;TZID=America/New_York:20260403T113000
DTSTAMP:20260423T154858
CREATED:20250707T202614Z
LAST-MODIFIED:20250707T202614Z
UID:10010261-1775206800-1775215800@www.stmarksnewcanaan.org
SUMMARY:NC Men's Club
DESCRIPTION:The New Canaan Men’s Club was founded in 1977 by a group of men who met regularly at the Y to play racquetball. \nWhile we have grown quite a bit since then\, friendship and fellowship remain core to our Club. We meet on Friday mornings in Morrill Hall at St. Mark’s Episcopal Church\, but we are both nonreligious and nonpartisan. \nOur Members come from New Canaan and surrounding communities. They bring diverse experiences from their careers\, talents\, travels\, and lives. What brings us together is the variety of activities and interests Club Members share. Explore our website and calendar to see the many and varied activities that are available to all Members. Each Friday meeting has a speaker covering an interesting and often timely topic so we are constantly learning
URL:https://www.stmarksnewcanaan.org/event/nc-mens-club-2-2-2/2026-04-03/
END:VEVENT
BEGIN:VEVENT
DTSTART;TZID=America/New_York:20260403T083000
DTEND;TZID=America/New_York:20260403T090000
DTSTAMP:20260423T154858
CREATED:20230918T212439Z
LAST-MODIFIED:20251204T224149Z
UID:10012050-1775205000-1775206800@www.stmarksnewcanaan.org
SUMMARY:Morning Prayer
DESCRIPTION:
URL:https://www.stmarksnewcanaan.org/event/morning-prayer/2026-04-03/
ATTACH;FMTTYPE=image/png:https://www.stmarksnewcanaan.org/wp-content/uploads/2024/02/StMark-slogo-405w.png
END:VEVENT
BEGIN:VEVENT
DTSTART;TZID=America/New_York:20260402T190000
DTEND;TZID=America/New_York:20260402T210000
DTSTAMP:20260423T154858
CREATED:20240619T232201Z
LAST-MODIFIED:20251204T224058Z
UID:10009472-1775156400-1775163600@www.stmarksnewcanaan.org
SUMMARY:BSA Troop 70
DESCRIPTION:
URL:https://www.stmarksnewcanaan.org/event/bsa-troop-70-2/2026-04-02/
END:VEVENT
BEGIN:VEVENT
DTSTART;TZID=America/New_York:20260402T190000
DTEND;TZID=America/New_York:20260402T203000
DTSTAMP:20260423T154858
CREATED:20231109T210334Z
LAST-MODIFIED:20251204T223958Z
UID:10010594-1775156400-1775161800@www.stmarksnewcanaan.org
SUMMARY:New Canaan Parent Support Group
DESCRIPTION:
URL:https://www.stmarksnewcanaan.org/event/new-canaan-parent-support-group/2026-04-02/
END:VEVENT
BEGIN:VEVENT
DTSTART;TZID=America/New_York:20260402T180000
DTEND;TZID=America/New_York:20260402T190000
DTSTAMP:20260423T154858
CREATED:20260311T155529Z
LAST-MODIFIED:20260311T155529Z
UID:10014806-1775152800-1775156400@www.stmarksnewcanaan.org
SUMMARY:Holy Eucharist Rite II with Foot Washing and Choir
DESCRIPTION:
URL:https://www.stmarksnewcanaan.org/event/holy-eucharist-rite-ii-with-foot-washing-and-choir-2/
CATEGORIES:Home,Special Events,Worship
ATTACH;FMTTYPE=image/jpeg:https://www.stmarksnewcanaan.org/wp-content/uploads/2024/01/Foot-Washing-2024-John-Harrison-scaled-e1773244465229.jpg
END:VEVENT
BEGIN:VEVENT
DTSTART;TZID=America/New_York:20260402T121500
DTEND;TZID=America/New_York:20260402T124500
DTSTAMP:20260423T154858
CREATED:20260206T215402Z
LAST-MODIFIED:20260206T215402Z
UID:10015890-1775132100-1775133900@www.stmarksnewcanaan.org
SUMMARY:Centering Prayer with Rev. Elizabeth
DESCRIPTION:Join Rev. Elizabeth in the Church on Thursdays\, beginning February 26\, from 12:15-12:45 for a brief reflection\, instruction\, and 20-minutes of group Centering Prayer. \nCentering Prayer is a Christian silent practice of releasing thoughts as they come\, regardless of content\, during a period of 20 minutes. The fruit of the practice is a deeper level of awareness of God’s indwelling presence\, and spending time resting in that presence. This practice of ‘self-emptying’ (Philippians 2-11) aligns us with the self-emptying love that forms the core of Jesus’s own self-understanding and way of life. \nNo need to sign up. Please arrive on time in order to enter into silence as a group.
URL:https://www.stmarksnewcanaan.org/event/centering-prayer-with-rev-elizabeth/2026-04-02/
CATEGORIES:Community,Home,Prayer
END:VEVENT
BEGIN:VEVENT
DTSTART;TZID=America/New_York:20260402T083000
DTEND;TZID=America/New_York:20260402T090000
DTSTAMP:20260423T154858
CREATED:20230918T212439Z
LAST-MODIFIED:20251204T224149Z
UID:10012049-1775118600-1775120400@www.stmarksnewcanaan.org
SUMMARY:Morning Prayer
DESCRIPTION:
URL:https://www.stmarksnewcanaan.org/event/morning-prayer/2026-04-02/
ATTACH;FMTTYPE=image/png:https://www.stmarksnewcanaan.org/wp-content/uploads/2024/02/StMark-slogo-405w.png
END:VEVENT
BEGIN:VEVENT
DTSTART;TZID=America/New_York:20260401T163000
DTEND;TZID=America/New_York:20260401T173000
DTSTAMP:20260423T154858
CREATED:20250827T141957Z
LAST-MODIFIED:20250827T141957Z
UID:10015141-1775061000-1775064600@www.stmarksnewcanaan.org
SUMMARY:Children's Choir Rehearsal: Choristers
DESCRIPTION:Calling all children in kindergarten and up – Join us! Learn skills in reading and interpreting music\, as well as the joy of singing to our Lord and with each other\, all under the guidance of our Director of Music Ministry\, Ned Tipton. We welcome current and new members to join one of our two children’s choir levels: \n\nJoyful Noyze: For children in kindergarten through second grade\, Wednesdays 4-4:30PM\nChoristers: For children in third grade and older\, Wednesdays 4:30-5:30PM\n\nRehearsal and performance schedules follow the New Canaan school calendar. In addition to regular participation in Sunday services\, many fun and educational activities are planned. For more information\, please contact Ned Tipton through the church office or ntipton@stmarksnewcanaan.org
URL:https://www.stmarksnewcanaan.org/event/childrens-choir-rehearsal-choristers/2026-04-01/
LOCATION:St. Mark’s Episcopal Church\, 111 Oenoke Ridge\, New Canaan\, CT\, 06840
CATEGORIES:Church School,Music
ATTACH;FMTTYPE=image/jpeg:https://www.stmarksnewcanaan.org/wp-content/uploads/2025/08/Kids-Choirs-scaled-e1756304107245.jpeg
ORGANIZER;CN="Jan Maynes":MAILTO:children@stmarksnewcanaan.org
END:VEVENT
BEGIN:VEVENT
DTSTART;TZID=America/New_York:20260401T160000
DTEND;TZID=America/New_York:20260401T163000
DTSTAMP:20260423T154858
CREATED:20250827T142126Z
LAST-MODIFIED:20250827T143333Z
UID:10015223-1775059200-1775061000@www.stmarksnewcanaan.org
SUMMARY:Children's Choir Rehearsal: Choristers
DESCRIPTION:Calling all children in kindergarten and up – Join us! Learn skills in reading and interpreting music\, as well as the joy of singing to our Lord and with each other\, all under the guidance of our Director of Music Ministry\, Ned Tipton. We welcome current and new members to join one of our two children’s choir levels: \n\nJoyful Noyze: For children in kindergarten through second grade\, Wednesdays 4-4:30PM\nChoristers: For children in third grade and older\, Wednesdays 4:30-5:30PM\n\nRehearsal and performance schedules follow the New Canaan school calendar. In addition to regular participation in Sunday services\, many fun and educational activities are planned. Register here. For more information\, please contact Ned Tipton through the church office or ntipton@stmarksnewcanaan.org
URL:https://www.stmarksnewcanaan.org/event/childrens-choir-rehearsal-choristers-2/2026-04-01/
LOCATION:St. Mark’s Episcopal Church\, 111 Oenoke Ridge\, New Canaan\, CT\, 06840
CATEGORIES:Church School,Music
ATTACH;FMTTYPE=image/jpeg:https://www.stmarksnewcanaan.org/wp-content/uploads/2025/08/Kids-Choirs-scaled-e1756304107245.jpeg
ORGANIZER;CN="Jan Maynes":MAILTO:children@stmarksnewcanaan.org
END:VEVENT
END:VCALENDAR