BEGIN:VCALENDAR
VERSION:2.0
PRODID:-//St. Mark&#039;s, New Canaan - ECPv6.15.18//NONSGML v1.0//EN
CALSCALE:GREGORIAN
METHOD:PUBLISH
X-ORIGINAL-URL:https://www.stmarksnewcanaan.org
X-WR-CALDESC:Events for St. Mark&#039;s, New Canaan
REFRESH-INTERVAL;VALUE=DURATION:PT1H
X-Robots-Tag:noindex
X-PUBLISHED-TTL:PT1H
BEGIN:VTIMEZONE
TZID:America/New_York
BEGIN:DAYLIGHT
TZOFFSETFROM:-0500
TZOFFSETTO:-0400
TZNAME:EDT
DTSTART:20250309T070000
END:DAYLIGHT
BEGIN:STANDARD
TZOFFSETFROM:-0400
TZOFFSETTO:-0500
TZNAME:EST
DTSTART:20251102T060000
END:STANDARD
BEGIN:DAYLIGHT
TZOFFSETFROM:-0500
TZOFFSETTO:-0400
TZNAME:EDT
DTSTART:20260308T070000
END:DAYLIGHT
BEGIN:STANDARD
TZOFFSETFROM:-0400
TZOFFSETTO:-0500
TZNAME:EST
DTSTART:20261101T060000
END:STANDARD
BEGIN:DAYLIGHT
TZOFFSETFROM:-0500
TZOFFSETTO:-0400
TZNAME:EDT
DTSTART:20270314T070000
END:DAYLIGHT
BEGIN:STANDARD
TZOFFSETFROM:-0400
TZOFFSETTO:-0500
TZNAME:EST
DTSTART:20271107T060000
END:STANDARD
BEGIN:DAYLIGHT
TZOFFSETFROM:-0500
TZOFFSETTO:-0400
TZNAME:EDT
DTSTART:20280312T070000
END:DAYLIGHT
BEGIN:STANDARD
TZOFFSETFROM:-0400
TZOFFSETTO:-0500
TZNAME:EST
DTSTART:20281105T060000
END:STANDARD
BEGIN:DAYLIGHT
TZOFFSETFROM:-0500
TZOFFSETTO:-0400
TZNAME:EDT
DTSTART:20290311T070000
END:DAYLIGHT
BEGIN:STANDARD
TZOFFSETFROM:-0400
TZOFFSETTO:-0500
TZNAME:EST
DTSTART:20291104T060000
END:STANDARD
BEGIN:DAYLIGHT
TZOFFSETFROM:-0500
TZOFFSETTO:-0400
TZNAME:EDT
DTSTART:20300310T070000
END:DAYLIGHT
BEGIN:STANDARD
TZOFFSETFROM:-0400
TZOFFSETTO:-0500
TZNAME:EST
DTSTART:20301103T060000
END:STANDARD
END:VTIMEZONE
BEGIN:VEVENT
DTSTART;TZID=America/New_York:20260508T170000
DTEND;TZID=America/New_York:20260508T220000
DTSTAMP:20260423T050945
CREATED:20260416T140540Z
LAST-MODIFIED:20260416T191809Z
UID:10016209-1778259600-1778277600@www.stmarksnewcanaan.org
SUMMARY:Friday Night Lights
DESCRIPTION:Friday Night Lights – Friday\, May 8  \n\nMidway Rides: 5-10PM *Weather Permitting*\n20+ rides\, including Zero Gravity\, The Tornado\, Cliffhanger\, Rock Star\, Sky Hawk\, and others\nWristbands available for purchase at May Fair Grounds\, Friday\, May 8\, beginning at 4PM\nWristbands give access to all Midway rides\, $35 wristband bracelet\, valid Friday only\nFood Court: 5-8PM\nThe Original Strawberry Festival’s Shortcake & Ice Cream: 5PM-until sold out!\nGetAbout Shuttle Van Service: 4:30-10:30PM\nFace Painting: 5-10PM\nCash and credit cards are accepted and ATMs are available on site.
URL:https://www.stmarksnewcanaan.org/event/friday-night-lights-3/
LOCATION:CT
CATEGORIES:Community,Home,Special Events,Youth
ATTACH;FMTTYPE=image/jpeg:https://www.stmarksnewcanaan.org/wp-content/uploads/2026/04/IMG_4580-scaled.jpeg
END:VEVENT
BEGIN:VEVENT
DTSTART;TZID=America/New_York:20260509T090000
DTEND;TZID=America/New_York:20260509T180000
DTSTAMP:20260423T050945
CREATED:20260416T132810Z
LAST-MODIFIED:20260416T191701Z
UID:10016208-1778317200-1778349600@www.stmarksnewcanaan.org
SUMMARY:May Fair - Gathered in Joy!
DESCRIPTION:May Fair 2026 – rain or shine for the last 77 years and counting. Always happily shared with Mother’s Day weekend\, St. Mark’s Episcopal Church’s annual event is guaranteed joy with endless unbridled energy that attracts thousands of multigenerational friends and families from New Canaan and its surrounding towns. \nMark your calendar for the White Elephant Preview Party on Thursday\, May 7\, from 5-7:30 PM\, Friday Night Lights on May 8\, open from 5-10 PM\, and Saturday’s May Fair event on Saturday\, May 9\, open from 9 AM-3 PM\, rides staying open until 6 PM. \nAll net proceeds support St. Mark’s ministries and special grant support to other nonprofits who serve those in need. \nWhite Elephant Tag Sale: 9AM-3PM ● Midway Rides: 9AM-6PM *Weather Permitting* ● GetAbout Shuttle Van Service: 8:30AM-6:30PM ● Food Court: 10:30AM-3PM (while supplies last) ● The Original Strawberry Festival’s Shortcake & Ice Cream: 10AM-until sold out! ● Old Faithful Antique Fire Engine Rides: 10AM-1PM ● Face Painting: 9AM-6PM ● Live Entertainment – 11:30AM – New Canaan’s Town Band ● Live Entertainment – 12:30PM – Pivot Ministries Choir ● Live Entertainment – 1:30PM – May Fair Dog Show \nSaturday Midway Amusement Ride Tickets – Saturday\, May 9 ● Saturday Tickets (sold only on Saturday) are $1.50 each. ● Rides require 2-4 tickets per ride. Ticket packet options: 22 tickets for $30\, 48 tickets for $60. ● Cash and credit cards are accepted and ATMs are available on site. \n 
URL:https://www.stmarksnewcanaan.org/event/may-fair-gathered-in-joy/
LOCATION:CT
CATEGORIES:Community,Home,Special Events
ATTACH;FMTTYPE=image/jpeg:https://www.stmarksnewcanaan.org/wp-content/uploads/2026/04/IMG_4620-scaled.jpeg
END:VEVENT
BEGIN:VEVENT
DTSTART;TZID=America/New_York:20260515T190000
DTEND;TZID=America/New_York:20260515T210000
DTSTAMP:20260423T050945
CREATED:20250919T200617Z
LAST-MODIFIED:20260422T191427Z
UID:10015368-1778871600-1778878800@www.stmarksnewcanaan.org
SUMMARY:The Jeff Franzel Trio
DESCRIPTION:Jeff Franzel is a multi-talented songwriter and composer who began his career as a jazz pianist\, accompanying such artists as Frank Sinatra\, Sammy Davis Jr.\, and Mel Tormé. Jeff has had over 20 top ten singles and 275 recordings worldwide\, and his Jeff Franzel Trio is well-known and popular in the New York City jazz world. Event in Morrill Hall\, complete with hors d’oeuvres and beverages. \n$30 general admission ($35 day of event) / $10 students. To purchase tickets\, please click here.
URL:https://www.stmarksnewcanaan.org/event/the-jeff-franzel-trio/
LOCATION:St. Mark’s Episcopal Church\, 111 Oenoke Ridge\, New Canaan\, CT\, 06840
CATEGORIES:Community,Home,Music,Special Events
ATTACH;FMTTYPE=image/jpeg:https://www.stmarksnewcanaan.org/wp-content/uploads/2025/09/Jeff-solo-at-piano.jpg
END:VEVENT
BEGIN:VEVENT
DTSTART;TZID=America/New_York:20260516T090000
DTEND;TZID=America/New_York:20260516T110000
DTSTAMP:20260423T050945
CREATED:20260416T165945Z
LAST-MODIFIED:20260416T192601Z
UID:10016212-1778922000-1778929200@www.stmarksnewcanaan.org
SUMMARY:Gospel Garden Clean Up and Planting Session
DESCRIPTION:Gospel Garden Clean Up and Planting Sessions \nApril 18\, 9–11AM: Sign Up \nMay 16\, 10–11AM: Sign Up \nLocation: St. Mark’s Gospel Garden \nSpring has arrived\, and we need your help to kick off this year’s Gospel Garden season! We’re rolling up our sleeves to clean up the beds\, get them ready for planting\, and put the first vegetables in the ground. \nThe Gospel Garden grows organic produce that is 100% donated to the New Canaan Food Pantry and Person-to-Person in Darien — two organizations facing growing demand. In one of the wealthiest counties in America\, food insecurity is a real and rising problem: many families struggle to afford nutritious food as grocery and housing costs climb\, and federal food assistance is being cut for tens of thousands of Connecticut families who depend on it. \nNo experience needed — just bring yourself (and your family or friends). This is hands-on work that makes a real difference.
URL:https://www.stmarksnewcanaan.org/event/gospel-garden-clean-up-and-planting-session/2026-05-16/
LOCATION:St. Mark’s Gospel Garden
CATEGORIES:Home,Special Events
ATTACH;FMTTYPE=image/png:https://www.stmarksnewcanaan.org/wp-content/uploads/2026/04/Screenshot-2026-04-16-at-11.12.52-AM.png
END:VEVENT
BEGIN:VEVENT
DTSTART;TZID=America/New_York:20261224T170000
DTEND;TZID=America/New_York:20261224T180000
DTSTAMP:20260423T050945
CREATED:20241202T222026Z
LAST-MODIFIED:20250102T150157Z
UID:10013575-1798131600-1798135200@www.stmarksnewcanaan.org
SUMMARY:The World’s Greatest Christmas Pageant
DESCRIPTION:
URL:https://www.stmarksnewcanaan.org/event/the-worlds-greatest-christmas-pageant-2/2026-12-24/
LOCATION:St. Mark’s Episcopal Church\, 111 Oenoke Ridge\, New Canaan\, CT\, 06840
CATEGORIES:Church School,Special Events,Worship,Youth
ATTACH;FMTTYPE=image/jpeg:https://www.stmarksnewcanaan.org/wp-content/uploads/2024/02/Christmas-Pageant-2022-scaled-1.jpg
END:VEVENT
BEGIN:VEVENT
DTSTART;TZID=America/New_York:20271224T170000
DTEND;TZID=America/New_York:20271224T180000
DTSTAMP:20260423T050945
CREATED:20241202T222026Z
LAST-MODIFIED:20250102T150157Z
UID:10013576-1829667600-1829671200@www.stmarksnewcanaan.org
SUMMARY:The World’s Greatest Christmas Pageant
DESCRIPTION:
URL:https://www.stmarksnewcanaan.org/event/the-worlds-greatest-christmas-pageant-2/2027-12-24/
LOCATION:St. Mark’s Episcopal Church\, 111 Oenoke Ridge\, New Canaan\, CT\, 06840
CATEGORIES:Church School,Special Events,Worship,Youth
ATTACH;FMTTYPE=image/jpeg:https://www.stmarksnewcanaan.org/wp-content/uploads/2024/02/Christmas-Pageant-2022-scaled-1.jpg
END:VEVENT
BEGIN:VEVENT
DTSTART;TZID=America/New_York:20281224T170000
DTEND;TZID=America/New_York:20281224T180000
DTSTAMP:20260423T050945
CREATED:20241202T222026Z
LAST-MODIFIED:20250102T150157Z
UID:10013577-1861290000-1861293600@www.stmarksnewcanaan.org
SUMMARY:The World’s Greatest Christmas Pageant
DESCRIPTION:
URL:https://www.stmarksnewcanaan.org/event/the-worlds-greatest-christmas-pageant-2/2028-12-24/
LOCATION:St. Mark’s Episcopal Church\, 111 Oenoke Ridge\, New Canaan\, CT\, 06840
CATEGORIES:Church School,Special Events,Worship,Youth
ATTACH;FMTTYPE=image/jpeg:https://www.stmarksnewcanaan.org/wp-content/uploads/2024/02/Christmas-Pageant-2022-scaled-1.jpg
END:VEVENT
BEGIN:VEVENT
DTSTART;TZID=America/New_York:20291224T170000
DTEND;TZID=America/New_York:20291224T180000
DTSTAMP:20260423T050945
CREATED:20241202T222026Z
LAST-MODIFIED:20250102T150157Z
UID:10014651-1892826000-1892829600@www.stmarksnewcanaan.org
SUMMARY:The World’s Greatest Christmas Pageant
DESCRIPTION:
URL:https://www.stmarksnewcanaan.org/event/the-worlds-greatest-christmas-pageant-2/2029-12-24/
LOCATION:St. Mark’s Episcopal Church\, 111 Oenoke Ridge\, New Canaan\, CT\, 06840
CATEGORIES:Church School,Special Events,Worship,Youth
ATTACH;FMTTYPE=image/jpeg:https://www.stmarksnewcanaan.org/wp-content/uploads/2024/02/Christmas-Pageant-2022-scaled-1.jpg
END:VEVENT
END:VCALENDAR