BEGIN:VCALENDAR
VERSION:2.0
PRODID:-//St. Mark&#039;s, New Canaan - ECPv6.15.18//NONSGML v1.0//EN
CALSCALE:GREGORIAN
METHOD:PUBLISH
X-ORIGINAL-URL:https://www.stmarksnewcanaan.org
X-WR-CALDESC:Events for St. Mark&#039;s, New Canaan
REFRESH-INTERVAL;VALUE=DURATION:PT1H
X-Robots-Tag:noindex
X-PUBLISHED-TTL:PT1H
BEGIN:VTIMEZONE
TZID:America/New_York
BEGIN:DAYLIGHT
TZOFFSETFROM:-0500
TZOFFSETTO:-0400
TZNAME:EDT
DTSTART:20250309T070000
END:DAYLIGHT
BEGIN:STANDARD
TZOFFSETFROM:-0400
TZOFFSETTO:-0500
TZNAME:EST
DTSTART:20251102T060000
END:STANDARD
BEGIN:DAYLIGHT
TZOFFSETFROM:-0500
TZOFFSETTO:-0400
TZNAME:EDT
DTSTART:20260308T070000
END:DAYLIGHT
BEGIN:STANDARD
TZOFFSETFROM:-0400
TZOFFSETTO:-0500
TZNAME:EST
DTSTART:20261101T060000
END:STANDARD
BEGIN:DAYLIGHT
TZOFFSETFROM:-0500
TZOFFSETTO:-0400
TZNAME:EDT
DTSTART:20270314T070000
END:DAYLIGHT
BEGIN:STANDARD
TZOFFSETFROM:-0400
TZOFFSETTO:-0500
TZNAME:EST
DTSTART:20271107T060000
END:STANDARD
END:VTIMEZONE
BEGIN:VEVENT
DTSTART;TZID=America/New_York:20260503T113000
DTEND;TZID=America/New_York:20260503T123000
DTSTAMP:20260422T042121
CREATED:20250827T213414Z
LAST-MODIFIED:20250827T213414Z
UID:10015300-1777807800-1777811400@www.stmarksnewcanaan.org
SUMMARY:Confirmation Class
DESCRIPTION:Visit the Confirmation page of the website for details.
URL:https://www.stmarksnewcanaan.org/event/confirmation-class/2026-05-03/
LOCATION:St. Mark’s Youth Room\, 111 Oenoke Ridge\, New Canaan\, CT\, United States
CATEGORIES:Classes & Forums,Youth
ORGANIZER;CN="Fr. John Kennedy":MAILTO:jkennedy@stmarksnewcanaan.org
END:VEVENT
BEGIN:VEVENT
DTSTART;TZID=America/New_York:20260506T130000
DTEND;TZID=America/New_York:20260506T190000
DTSTAMP:20260422T042121
CREATED:20250102T151052Z
LAST-MODIFIED:20250102T151052Z
UID:10007535-1778072400-1778094000@www.stmarksnewcanaan.org
SUMMARY:Laundry Love
DESCRIPTION:Laundry Love operates on the first Wednesday of each month at Giant Laundry\, 233 East Avenue\, Norwalk.  \nLaundry Love is a ministry where the our mantra is to respect the dignity of every human being.” As one friend put it\, “The world is often harsh and unforgiving\, and it is in these small times that we can see a little of the goodness of humankind.” Laundry Love offers monthly opportunities to come alongside people who are struggling financially by assisting them with their laundry. \nLaundry Love wishes to thank all our volunteers and donors for helping us maintain this vital ministry. Your continued support means the world to us and to all the friends we serve. \nLearn more here.
URL:https://www.stmarksnewcanaan.org/event/laundry-love-2/2026-05-06/
LOCATION:CT
CATEGORIES:Community,Home,Outreach,Youth
ATTACH;FMTTYPE=image/jpeg:https://www.stmarksnewcanaan.org/wp-content/uploads/2024/08/Laundry-Love.jpg
END:VEVENT
BEGIN:VEVENT
DTSTART;TZID=America/New_York:20260508T170000
DTEND;TZID=America/New_York:20260508T220000
DTSTAMP:20260422T042121
CREATED:20260416T140540Z
LAST-MODIFIED:20260416T191809Z
UID:10016209-1778259600-1778277600@www.stmarksnewcanaan.org
SUMMARY:Friday Night Lights
DESCRIPTION:Friday Night Lights – Friday\, May 8  \n\nMidway Rides: 5-10PM *Weather Permitting*\n20+ rides\, including Zero Gravity\, The Tornado\, Cliffhanger\, Rock Star\, Sky Hawk\, and others\nWristbands available for purchase at May Fair Grounds\, Friday\, May 8\, beginning at 4PM\nWristbands give access to all Midway rides\, $35 wristband bracelet\, valid Friday only\nFood Court: 5-8PM\nThe Original Strawberry Festival’s Shortcake & Ice Cream: 5PM-until sold out!\nGetAbout Shuttle Van Service: 4:30-10:30PM\nFace Painting: 5-10PM\nCash and credit cards are accepted and ATMs are available on site.
URL:https://www.stmarksnewcanaan.org/event/friday-night-lights-3/
LOCATION:CT
CATEGORIES:Community,Home,Special Events,Youth
ATTACH;FMTTYPE=image/jpeg:https://www.stmarksnewcanaan.org/wp-content/uploads/2026/04/IMG_4580-scaled.jpeg
END:VEVENT
END:VCALENDAR