BEGIN:VCALENDAR
VERSION:2.0
PRODID:-//St. Mark&#039;s, New Canaan - ECPv6.15.18//NONSGML v1.0//EN
CALSCALE:GREGORIAN
METHOD:PUBLISH
X-WR-CALNAME:St. Mark&#039;s, New Canaan
X-ORIGINAL-URL:https://www.stmarksnewcanaan.org
X-WR-CALDESC:Events for St. Mark&#039;s, New Canaan
REFRESH-INTERVAL;VALUE=DURATION:PT1H
X-Robots-Tag:noindex
X-PUBLISHED-TTL:PT1H
BEGIN:VTIMEZONE
TZID:America/New_York
BEGIN:DAYLIGHT
TZOFFSETFROM:-0500
TZOFFSETTO:-0400
TZNAME:EDT
DTSTART:20250309T070000
END:DAYLIGHT
BEGIN:STANDARD
TZOFFSETFROM:-0400
TZOFFSETTO:-0500
TZNAME:EST
DTSTART:20251102T060000
END:STANDARD
BEGIN:DAYLIGHT
TZOFFSETFROM:-0500
TZOFFSETTO:-0400
TZNAME:EDT
DTSTART:20260308T070000
END:DAYLIGHT
BEGIN:STANDARD
TZOFFSETFROM:-0400
TZOFFSETTO:-0500
TZNAME:EST
DTSTART:20261101T060000
END:STANDARD
BEGIN:DAYLIGHT
TZOFFSETFROM:-0500
TZOFFSETTO:-0400
TZNAME:EDT
DTSTART:20270314T070000
END:DAYLIGHT
BEGIN:STANDARD
TZOFFSETFROM:-0400
TZOFFSETTO:-0500
TZNAME:EST
DTSTART:20271107T060000
END:STANDARD
END:VTIMEZONE
BEGIN:VEVENT
DTSTART;TZID=America/New_York:20260428T130000
DTEND;TZID=America/New_York:20260428T183000
DTSTAMP:20260425T112203
CREATED:20260423T195521Z
LAST-MODIFIED:20260423T195715Z
UID:10016217-1777381200-1777401000@www.stmarksnewcanaan.org
SUMMARY:Red Cross Blood Drive
DESCRIPTION:Red Cross Blood Drive\n\n\n\n\nTogether: Give Blood at a Red Cross Blood Drive\nTuesday\, April 28\, 1:00–6:30pm\nMorrill Hall \nHospitals in Connecticut depend on donated blood for surgeries\, cancer treatment\, and emergency care\, and supplies are low. Each donation can help save multiple lives. Appointments are needed. Schedule online or call 1-800-RED CROSS. \nOn your own: Visit the Red Cross website to find additional donation opportunities if you cannot attend on April 28.
URL:https://www.stmarksnewcanaan.org/event/red-cross-blood-drive-2/
CATEGORIES:Home,Special Events
ATTACH;FMTTYPE=image/png:https://www.stmarksnewcanaan.org/wp-content/uploads/2026/04/american-red-cross-logo.png
END:VEVENT
END:VCALENDAR