BEGIN:VCALENDAR
VERSION:2.0
PRODID:-//St. Mark&#039;s, New Canaan - ECPv6.15.18//NONSGML v1.0//EN
CALSCALE:GREGORIAN
METHOD:PUBLISH
X-WR-CALNAME:St. Mark&#039;s, New Canaan
X-ORIGINAL-URL:https://www.stmarksnewcanaan.org
X-WR-CALDESC:Events for St. Mark&#039;s, New Canaan
REFRESH-INTERVAL;VALUE=DURATION:PT1H
X-Robots-Tag:noindex
X-PUBLISHED-TTL:PT1H
BEGIN:VTIMEZONE
TZID:America/New_York
BEGIN:DAYLIGHT
TZOFFSETFROM:-0500
TZOFFSETTO:-0400
TZNAME:EDT
DTSTART:20240310T070000
END:DAYLIGHT
BEGIN:STANDARD
TZOFFSETFROM:-0400
TZOFFSETTO:-0500
TZNAME:EST
DTSTART:20241103T060000
END:STANDARD
BEGIN:DAYLIGHT
TZOFFSETFROM:-0500
TZOFFSETTO:-0400
TZNAME:EDT
DTSTART:20250309T070000
END:DAYLIGHT
BEGIN:STANDARD
TZOFFSETFROM:-0400
TZOFFSETTO:-0500
TZNAME:EST
DTSTART:20251102T060000
END:STANDARD
BEGIN:DAYLIGHT
TZOFFSETFROM:-0500
TZOFFSETTO:-0400
TZNAME:EDT
DTSTART:20260308T070000
END:DAYLIGHT
BEGIN:STANDARD
TZOFFSETFROM:-0400
TZOFFSETTO:-0500
TZNAME:EST
DTSTART:20261101T060000
END:STANDARD
END:VTIMEZONE
BEGIN:VEVENT
DTSTART;TZID=America/New_York:20250907T111500
DTEND;TZID=America/New_York:20250907T123000
DTSTAMP:20260425T201815
CREATED:20250826T200353Z
LAST-MODIFIED:20250826T200353Z
UID:10014913-1757243700-1757248200@www.stmarksnewcanaan.org
SUMMARY:Parish Picnic
DESCRIPTION:The Parish Picnic is Sunday\, September 7\, at 11:15AM in the courtyard\, between the Church and Morrill Hall. ALL are welcome. Spread the word! And please wear your nametag to help us become friends. If you don’t have one\, we can make one for you. We’ll provide food for the grilling (burgers and hot dogs) and green salads will also be provided. We welcome your fork-friendly\, ready-to-serve sides and desserts to share. \n  \nHelping hands are needed to set up and break down tables and chairs\, and clean-up after the picnic.  Sign up online for a task or contact the Church Office at churchoffice@stmarksnewcanaan.org to sign up to help. This is a wonderful opportunity to get to know fellow parishioners! \n 
URL:https://www.stmarksnewcanaan.org/event/parish-picnic-2/
LOCATION:Courtyard
CATEGORIES:Community,Home,Special Events
ATTACH;FMTTYPE=image/jpeg:https://www.stmarksnewcanaan.org/wp-content/uploads/2024/09/Parish-Picnic-scaled.jpg
END:VEVENT
BEGIN:VEVENT
DTSTART;TZID=America/New_York:20250913T090000
DTEND;TZID=America/New_York:20250913T110000
DTSTAMP:20260425T201815
CREATED:20250905T223731Z
LAST-MODIFIED:20250905T223731Z
UID:10015360-1757754000-1757761200@www.stmarksnewcanaan.org
SUMMARY:Gospel Garden Volunteer Orientation
DESCRIPTION:All are invited to a Gospel Garden Volunteer Orientation at the Garden\, led by our expert gardener Bob Bouton. Bob will walk us through how the garden works so that everyone feels comfortable joining in this season and next. All experience levels are welcome. Please bring a water bottle and\, if you have them\, work gloves; tools will be provided. \nEach year the Gospel Garden produces organic vegetables to share with our neighbors through the New Canaan Food Pantry and Person to Person in Darien. This ministry is a hands-on way of loving our neighbors through the gift of fresh\, healthy food. \nRegistration is encouraged but not required. Sign up!
URL:https://www.stmarksnewcanaan.org/event/gospel-garden-volunteer-orientation/
LOCATION:St. Mark’s Gospel Garden
CATEGORIES:Community,Home,Outreach,Special Events,Youth
ATTACH;FMTTYPE=image/png:https://www.stmarksnewcanaan.org/wp-content/uploads/2024/08/all-are-invited-to-lend-a-hand-in-the-garden.png
ORGANIZER;CN="Fr. John Kennedy":MAILTO:jkennedy@stmarksnewcanaan.org
END:VEVENT
BEGIN:VEVENT
DTSTART;TZID=America/New_York:20250914T100000
DTEND;TZID=America/New_York:20250914T103000
DTSTAMP:20260425T201815
CREATED:20250826T200651Z
LAST-MODIFIED:20250905T225037Z
UID:10014914-1757844000-1757845800@www.stmarksnewcanaan.org
SUMMARY:Teach and Sing Sunday with Ned Tipton
DESCRIPTION:All children in Godly Play\, Holy Moly and Meet in the Middle are invited to gather in Morrill Hall during regular church school time on September 14. \nWe’ll have some fun musical exercises and learn a song from Director of Music Ministries\, Ned Tipton\, assisted by members of Choristers\, Joyful Noyze and the MnM class.  Then we’ll go into church and sing the Offertory Anthem from the Altar steps. \nSee you around the piano!
URL:https://www.stmarksnewcanaan.org/event/teach-and-sing-sunday-with-ned-tipton/
LOCATION:St. Mark’s Morrill Hall\, 111 Oenoke Ridge\, New Canaan\, CT\, 06840\, United States
CATEGORIES:Church School,Home,Music,Special Events,Youth
ATTACH;FMTTYPE=image/jpeg:https://www.stmarksnewcanaan.org/wp-content/uploads/2024/09/Unknown-1-e1726071559144.jpeg
ORGANIZER;CN="Jan Maynes":MAILTO:children@stmarksnewcanaan.org
END:VEVENT
BEGIN:VEVENT
DTSTART;TZID=America/New_York:20250921T120000
DTEND;TZID=America/New_York:20250921T160000
DTSTAMP:20260425T201815
CREATED:20250905T224657Z
LAST-MODIFIED:20250905T224711Z
UID:10015361-1758456000-1758470400@www.stmarksnewcanaan.org
SUMMARY:Interfaith Service Festival
DESCRIPTION:St. Mark’s will again join the iWagePeace Interfaith Service Festival in West Haven\, gathering people of many faiths for hands-on service. Projects this year include: \n\nBeach clean-up\nBuilding blessing bags for shelters\nRestoring a historic cemetery\nTurning confiscated guns into garden tools\nMaking and serving food for the hungry\n\n\nWhen: Sunday\, September 21\, 12:00–4:00 PM\nWhere: St. John Vianney Church\, West Haven\nTravel: A group will leave from St. Mark’s after the 10:00 AM service (around 11:00). Rides will be coordinated.\nWho: All ages welcome; families encouraged.\n\nSign up HERE by Tuesday\, September 16 to join the St. Mark’s group.
URL:https://www.stmarksnewcanaan.org/event/interfaith-service-festival/
LOCATION:St. John Vianney Church\, 300 Captain Thomas Boulevard\, West Haven\, CT\, United States
CATEGORIES:Community,Home,Outreach,Special Events,Youth
ATTACH;FMTTYPE=image/jpeg:https://www.stmarksnewcanaan.org/wp-content/uploads/2025/09/I-wage-peace-event.jpg
ORGANIZER;CN="Fr. John Kennedy":MAILTO:jkennedy@stmarksnewcanaan.org
END:VEVENT
END:VCALENDAR