BEGIN:VCALENDAR
VERSION:2.0
PRODID:-//St. Mark&#039;s, New Canaan - ECPv6.15.18//NONSGML v1.0//EN
CALSCALE:GREGORIAN
METHOD:PUBLISH
X-ORIGINAL-URL:https://www.stmarksnewcanaan.org
X-WR-CALDESC:Events for St. Mark&#039;s, New Canaan
REFRESH-INTERVAL;VALUE=DURATION:PT1H
X-Robots-Tag:noindex
X-PUBLISHED-TTL:PT1H
BEGIN:VTIMEZONE
TZID:America/New_York
BEGIN:DAYLIGHT
TZOFFSETFROM:-0500
TZOFFSETTO:-0400
TZNAME:EDT
DTSTART:20250309T070000
END:DAYLIGHT
BEGIN:STANDARD
TZOFFSETFROM:-0400
TZOFFSETTO:-0500
TZNAME:EST
DTSTART:20251102T060000
END:STANDARD
BEGIN:DAYLIGHT
TZOFFSETFROM:-0500
TZOFFSETTO:-0400
TZNAME:EDT
DTSTART:20260308T070000
END:DAYLIGHT
BEGIN:STANDARD
TZOFFSETFROM:-0400
TZOFFSETTO:-0500
TZNAME:EST
DTSTART:20261101T060000
END:STANDARD
BEGIN:DAYLIGHT
TZOFFSETFROM:-0500
TZOFFSETTO:-0400
TZNAME:EDT
DTSTART:20270314T070000
END:DAYLIGHT
BEGIN:STANDARD
TZOFFSETFROM:-0400
TZOFFSETTO:-0500
TZNAME:EST
DTSTART:20271107T060000
END:STANDARD
END:VTIMEZONE
BEGIN:VEVENT
DTSTART;VALUE=DATE:20260720
DTEND;VALUE=DATE:20260726
DTSTAMP:20260423T182815
CREATED:20260423T162112Z
LAST-MODIFIED:20260423T201430Z
UID:10016213-1784505600-1785023999@www.stmarksnewcanaan.org
SUMMARY:St. Mark’s Youth Summer Service Trip to South Carolina
DESCRIPTION:St. Mark’s Youth Summer Service Trip to South Carolina: July 20-25 \nFor High School Youth (Rising 9th Grade–Graduating Seniors) \nThis year’s youth service trip to South Carolina will take place Monday\, July 20 through Saturday\, July 25. During our week together\, we will serve\, learn\, and live in community in the South Carolina Lowcountry. \nWe will fly to Spring Island\, staying at Margaret Roscoe’s family house and another nearby home generously made available to our group for the week. Our service work will take place on nearby St. Helena Island\, where we will serve the Gullah community through our partnership with the St. Helena Gullah Housing Project\, assisting with home repairs for residents and supporting other community needs. \nOur workdays will be Tuesday through Friday\, typically beginning in the morning and finishing mid-afternoon. Alongside our time serving\, the week will include shared meals\, prayer and reflection\, and time to rest and enjoy the beauty of the Lowcountry. \n\n\n\nDates: Monday\, July 20 – Saturday\, July 25\nLocation: Spring Island & St. Helena Island\, South Carolina\nCost: Final cost will be confirmed soon; estimated around $600\, covering travel\, lodging\, and meals\nTravel details: Fly as a group from NYC to Savannah\, then drive (via rental car) to Spring Island\nChaperones: Margaret Roscoe\, Robina Lewis\, and Anderson Kenny\nLast Day to Register: Friday\, May 15\nSign up HERE\n\n\n\nAdditional details about flights\, packing lists\, and required forms will be shared with registered participants.
URL:https://www.stmarksnewcanaan.org/event/st-marks-youth-summer-service-trip-to-south-carolina/
CATEGORIES:Home
ATTACH;FMTTYPE=image/png:https://www.stmarksnewcanaan.org/wp-content/uploads/2026/04/Screenshot-2026-04-23-at-12.17.22-PM.png
END:VEVENT
BEGIN:VEVENT
DTSTART;TZID=America/New_York:20260724T083000
DTEND;TZID=America/New_York:20260724T090000
DTSTAMP:20260423T182815
CREATED:20230918T212439Z
LAST-MODIFIED:20251204T224149Z
UID:10012130-1784881800-1784883600@www.stmarksnewcanaan.org
SUMMARY:Morning Prayer
DESCRIPTION:
URL:https://www.stmarksnewcanaan.org/event/morning-prayer/2026-07-24/
ATTACH;FMTTYPE=image/png:https://www.stmarksnewcanaan.org/wp-content/uploads/2024/02/StMark-slogo-405w.png
END:VEVENT
BEGIN:VEVENT
DTSTART;TZID=America/New_York:20260724T090000
DTEND;TZID=America/New_York:20260724T113000
DTSTAMP:20260423T182815
CREATED:20250707T202614Z
LAST-MODIFIED:20250707T202614Z
UID:10010277-1784883600-1784892600@www.stmarksnewcanaan.org
SUMMARY:NC Men's Club
DESCRIPTION:The New Canaan Men’s Club was founded in 1977 by a group of men who met regularly at the Y to play racquetball. \nWhile we have grown quite a bit since then\, friendship and fellowship remain core to our Club. We meet on Friday mornings in Morrill Hall at St. Mark’s Episcopal Church\, but we are both nonreligious and nonpartisan. \nOur Members come from New Canaan and surrounding communities. They bring diverse experiences from their careers\, talents\, travels\, and lives. What brings us together is the variety of activities and interests Club Members share. Explore our website and calendar to see the many and varied activities that are available to all Members. Each Friday meeting has a speaker covering an interesting and often timely topic so we are constantly learning
URL:https://www.stmarksnewcanaan.org/event/nc-mens-club-2-2-2/2026-07-24/
END:VEVENT
END:VCALENDAR