BEGIN:VCALENDAR
VERSION:2.0
PRODID:-//St. Mark&#039;s, New Canaan - ECPv6.15.18//NONSGML v1.0//EN
CALSCALE:GREGORIAN
METHOD:PUBLISH
X-WR-CALNAME:St. Mark&#039;s, New Canaan
X-ORIGINAL-URL:https://www.stmarksnewcanaan.org
X-WR-CALDESC:Events for St. Mark&#039;s, New Canaan
REFRESH-INTERVAL;VALUE=DURATION:PT1H
X-Robots-Tag:noindex
X-PUBLISHED-TTL:PT1H
BEGIN:VTIMEZONE
TZID:America/New_York
BEGIN:DAYLIGHT
TZOFFSETFROM:-0500
TZOFFSETTO:-0400
TZNAME:EDT
DTSTART:20250309T070000
END:DAYLIGHT
BEGIN:STANDARD
TZOFFSETFROM:-0400
TZOFFSETTO:-0500
TZNAME:EST
DTSTART:20251102T060000
END:STANDARD
BEGIN:DAYLIGHT
TZOFFSETFROM:-0500
TZOFFSETTO:-0400
TZNAME:EDT
DTSTART:20260308T070000
END:DAYLIGHT
BEGIN:STANDARD
TZOFFSETFROM:-0400
TZOFFSETTO:-0500
TZNAME:EST
DTSTART:20261101T060000
END:STANDARD
BEGIN:DAYLIGHT
TZOFFSETFROM:-0500
TZOFFSETTO:-0400
TZNAME:EDT
DTSTART:20270314T070000
END:DAYLIGHT
BEGIN:STANDARD
TZOFFSETFROM:-0400
TZOFFSETTO:-0500
TZNAME:EST
DTSTART:20271107T060000
END:STANDARD
END:VTIMEZONE
BEGIN:VEVENT
DTSTART;TZID=America/New_York:20260515T083000
DTEND;TZID=America/New_York:20260515T090000
DTSTAMP:20260423T121647
CREATED:20230918T212439Z
LAST-MODIFIED:20251204T224149Z
UID:10012080-1778833800-1778835600@www.stmarksnewcanaan.org
SUMMARY:Morning Prayer
DESCRIPTION:
URL:https://www.stmarksnewcanaan.org/event/morning-prayer/2026-05-15/
ATTACH;FMTTYPE=image/png:https://www.stmarksnewcanaan.org/wp-content/uploads/2024/02/StMark-slogo-405w.png
END:VEVENT
BEGIN:VEVENT
DTSTART;TZID=America/New_York:20260515T090000
DTEND;TZID=America/New_York:20260515T113000
DTSTAMP:20260423T121647
CREATED:20250707T202614Z
LAST-MODIFIED:20250707T202614Z
UID:10010267-1778835600-1778844600@www.stmarksnewcanaan.org
SUMMARY:NC Men's Club
DESCRIPTION:The New Canaan Men’s Club was founded in 1977 by a group of men who met regularly at the Y to play racquetball. \nWhile we have grown quite a bit since then\, friendship and fellowship remain core to our Club. We meet on Friday mornings in Morrill Hall at St. Mark’s Episcopal Church\, but we are both nonreligious and nonpartisan. \nOur Members come from New Canaan and surrounding communities. They bring diverse experiences from their careers\, talents\, travels\, and lives. What brings us together is the variety of activities and interests Club Members share. Explore our website and calendar to see the many and varied activities that are available to all Members. Each Friday meeting has a speaker covering an interesting and often timely topic so we are constantly learning
URL:https://www.stmarksnewcanaan.org/event/nc-mens-club-2-2-2/2026-05-15/
END:VEVENT
BEGIN:VEVENT
DTSTART;TZID=America/New_York:20260515T190000
DTEND;TZID=America/New_York:20260515T210000
DTSTAMP:20260423T121647
CREATED:20250919T200617Z
LAST-MODIFIED:20260422T191427Z
UID:10015368-1778871600-1778878800@www.stmarksnewcanaan.org
SUMMARY:The Jeff Franzel Trio
DESCRIPTION:Jeff Franzel is a multi-talented songwriter and composer who began his career as a jazz pianist\, accompanying such artists as Frank Sinatra\, Sammy Davis Jr.\, and Mel Tormé. Jeff has had over 20 top ten singles and 275 recordings worldwide\, and his Jeff Franzel Trio is well-known and popular in the New York City jazz world. Event in Morrill Hall\, complete with hors d’oeuvres and beverages. \n$30 general admission ($35 day of event) / $10 students. To purchase tickets\, please click here.
URL:https://www.stmarksnewcanaan.org/event/the-jeff-franzel-trio/
LOCATION:St. Mark’s Episcopal Church\, 111 Oenoke Ridge\, New Canaan\, CT\, 06840
CATEGORIES:Community,Home,Music,Special Events
ATTACH;FMTTYPE=image/jpeg:https://www.stmarksnewcanaan.org/wp-content/uploads/2025/09/Jeff-solo-at-piano.jpg
END:VEVENT
END:VCALENDAR