BEGIN:VCALENDAR
VERSION:2.0
PRODID:-//St. Mark&#039;s, New Canaan - ECPv6.15.18//NONSGML v1.0//EN
CALSCALE:GREGORIAN
METHOD:PUBLISH
X-ORIGINAL-URL:https://www.stmarksnewcanaan.org
X-WR-CALDESC:Events for St. Mark&#039;s, New Canaan
REFRESH-INTERVAL;VALUE=DURATION:PT1H
X-Robots-Tag:noindex
X-PUBLISHED-TTL:PT1H
BEGIN:VTIMEZONE
TZID:America/New_York
BEGIN:DAYLIGHT
TZOFFSETFROM:-0500
TZOFFSETTO:-0400
TZNAME:EDT
DTSTART:20240310T070000
END:DAYLIGHT
BEGIN:STANDARD
TZOFFSETFROM:-0400
TZOFFSETTO:-0500
TZNAME:EST
DTSTART:20241103T060000
END:STANDARD
BEGIN:DAYLIGHT
TZOFFSETFROM:-0500
TZOFFSETTO:-0400
TZNAME:EDT
DTSTART:20250309T070000
END:DAYLIGHT
BEGIN:STANDARD
TZOFFSETFROM:-0400
TZOFFSETTO:-0500
TZNAME:EST
DTSTART:20251102T060000
END:STANDARD
BEGIN:DAYLIGHT
TZOFFSETFROM:-0500
TZOFFSETTO:-0400
TZNAME:EDT
DTSTART:20260308T070000
END:DAYLIGHT
BEGIN:STANDARD
TZOFFSETFROM:-0400
TZOFFSETTO:-0500
TZNAME:EST
DTSTART:20261101T060000
END:STANDARD
END:VTIMEZONE
BEGIN:VEVENT
DTSTART;TZID=America/New_York:20251027T083000
DTEND;TZID=America/New_York:20251027T090000
DTSTAMP:20260426T001354
CREATED:20230918T212439Z
LAST-MODIFIED:20251204T224149Z
UID:10011936-1761553800-1761555600@www.stmarksnewcanaan.org
SUMMARY:Morning Prayer
DESCRIPTION:
URL:https://www.stmarksnewcanaan.org/event/morning-prayer/2025-10-27/
ATTACH;FMTTYPE=image/png:https://www.stmarksnewcanaan.org/wp-content/uploads/2024/02/StMark-slogo-405w.png
END:VEVENT
BEGIN:VEVENT
DTSTART;TZID=America/New_York:20251027T190000
DTEND;TZID=America/New_York:20251027T200000
DTSTAMP:20260426T001354
CREATED:20250827T213930Z
LAST-MODIFIED:20251217T224948Z
UID:10015303-1761591600-1761595200@www.stmarksnewcanaan.org
SUMMARY:Mondays with Marley (and Other Prophets Who Rock)
DESCRIPTION:This fall\, join Father John and Emma for Mondays with Marley & Other Prophets Who Rock. An exploration of some of the most spiritually\, theologically\, and biblically inspired artists in popular music. Together we will listen\, read\, and discuss how the word of God has been proclaimed in surprising places and through surprising voices across the 20th and 21st centuries. \nArtists we will explore include: \n\nBob Marley\nPeter Tosh\, and other reggae greats\nAretha Franklin\, Billie Holiday\, and Mahalia Jackson\nBob Dylan\, Joan Baez\, Johnny Cash\, and June Carter\nLeonard Cohen\, George Harrison\, and Cat Stevens\nLenny Kravitz and U2\nTaylor Swift\, Regina Spektor\, and Kendrick Lamar\n\nCurated playlists and short video lectures will be shared in advance of each session to enrich our conversations. This series is a fun variation on last year’s Mondays with Merton. \nSchedule\nMondays\, October 6 – November 24 (no class October 20)\n7:00–8:15 PM | St. Mark’s Library\nA full syllabus will be available ahead of time. \nRegistration is encouraged but not required. You can register online HERE.
URL:https://www.stmarksnewcanaan.org/event/mondays-with-marley-and-other-prophets-of-rock/2025-10-27/
LOCATION:St. Mark’s Library
CATEGORIES:Classes & Forums
ATTACH;FMTTYPE=image/jpeg:https://www.stmarksnewcanaan.org/wp-content/uploads/2025/08/marley_bob-e1758314773499.jpg
ORGANIZER;CN="Fr. John Kennedy":MAILTO:jkennedy@stmarksnewcanaan.org
END:VEVENT
END:VCALENDAR