BEGIN:VCALENDAR
VERSION:2.0
PRODID:-//St. Mark&#039;s, New Canaan - ECPv6.15.18//NONSGML v1.0//EN
CALSCALE:GREGORIAN
METHOD:PUBLISH
X-ORIGINAL-URL:https://www.stmarksnewcanaan.org
X-WR-CALDESC:Events for St. Mark&#039;s, New Canaan
REFRESH-INTERVAL;VALUE=DURATION:PT1H
X-Robots-Tag:noindex
X-PUBLISHED-TTL:PT1H
BEGIN:VTIMEZONE
TZID:America/New_York
BEGIN:DAYLIGHT
TZOFFSETFROM:-0500
TZOFFSETTO:-0400
TZNAME:EDT
DTSTART:20240310T070000
END:DAYLIGHT
BEGIN:STANDARD
TZOFFSETFROM:-0400
TZOFFSETTO:-0500
TZNAME:EST
DTSTART:20241103T060000
END:STANDARD
BEGIN:DAYLIGHT
TZOFFSETFROM:-0500
TZOFFSETTO:-0400
TZNAME:EDT
DTSTART:20250309T070000
END:DAYLIGHT
BEGIN:STANDARD
TZOFFSETFROM:-0400
TZOFFSETTO:-0500
TZNAME:EST
DTSTART:20251102T060000
END:STANDARD
BEGIN:DAYLIGHT
TZOFFSETFROM:-0500
TZOFFSETTO:-0400
TZNAME:EDT
DTSTART:20260308T070000
END:DAYLIGHT
BEGIN:STANDARD
TZOFFSETFROM:-0400
TZOFFSETTO:-0500
TZNAME:EST
DTSTART:20261101T060000
END:STANDARD
END:VTIMEZONE
BEGIN:VEVENT
DTSTART;TZID=America/New_York:20251001T083000
DTEND;TZID=America/New_York:20251001T090000
DTSTAMP:20260420T053816
CREATED:20230918T212439Z
LAST-MODIFIED:20251204T224149Z
UID:10011918-1759307400-1759309200@www.stmarksnewcanaan.org
SUMMARY:Morning Prayer
DESCRIPTION:
URL:https://www.stmarksnewcanaan.org/event/morning-prayer/2025-10-01/
ATTACH;FMTTYPE=image/png:https://www.stmarksnewcanaan.org/wp-content/uploads/2024/02/StMark-slogo-405w.png
END:VEVENT
BEGIN:VEVENT
DTSTART;TZID=America/New_York:20251001T084500
DTEND;TZID=America/New_York:20251001T093000
DTSTAMP:20260420T053816
CREATED:20240126T230659Z
LAST-MODIFIED:20240817T195846Z
UID:10009169-1759308300-1759311000@www.stmarksnewcanaan.org
SUMMARY:Praying of the Rosary
DESCRIPTION:Via conference call at 978-990-5000   Access Code: 811368
URL:https://www.stmarksnewcanaan.org/event/praying-of-the-rosary/2025-10-01/
CATEGORIES:Worship
END:VEVENT
BEGIN:VEVENT
DTSTART;TZID=America/New_York:20251001T130000
DTEND;TZID=America/New_York:20251001T190000
DTSTAMP:20260420T053816
CREATED:20250102T151052Z
LAST-MODIFIED:20250102T151052Z
UID:10007528-1759323600-1759345200@www.stmarksnewcanaan.org
SUMMARY:Laundry Love
DESCRIPTION:Laundry Love operates on the first Wednesday of each month at Giant Laundry\, 233 East Avenue\, Norwalk.  \nLaundry Love is a ministry where the our mantra is to respect the dignity of every human being.” As one friend put it\, “The world is often harsh and unforgiving\, and it is in these small times that we can see a little of the goodness of humankind.” Laundry Love offers monthly opportunities to come alongside people who are struggling financially by assisting them with their laundry. \nLaundry Love wishes to thank all our volunteers and donors for helping us maintain this vital ministry. Your continued support means the world to us and to all the friends we serve. \nLearn more here.
URL:https://www.stmarksnewcanaan.org/event/laundry-love-2/2025-10-01/
CATEGORIES:Community,Home,Outreach,Youth
ATTACH;FMTTYPE=image/jpeg:https://www.stmarksnewcanaan.org/wp-content/uploads/2024/08/Laundry-Love.jpg
END:VEVENT
BEGIN:VEVENT
DTSTART;TZID=America/New_York:20251001T160000
DTEND;TZID=America/New_York:20251001T163000
DTSTAMP:20260420T053816
CREATED:20250827T141548Z
LAST-MODIFIED:20250827T143321Z
UID:10014955-1759334400-1759336200@www.stmarksnewcanaan.org
SUMMARY:Children's Choir Rehearsal: Joyful Noyze
DESCRIPTION:Calling all children in kindergarten and up – Join us! Learn skills in reading and interpreting music\, as well as the joy of singing to our Lord and with each other\, all under the guidance of our Director of Music Ministry\, Ned Tipton. We welcome current and new members to join one of our two children’s choir levels: \n\nJoyful Noyze: For children in kindergarten through second grade\, Wednesdays 4-4:30PM\nChoristers: For children in third grade and older\, Wednesdays 4:30-5:30PM\n\nRehearsal and performance schedules follow the New Canaan school calendar. In addition to regular participation in Sunday services\, many fun and educational activities are planned. Register here. For more information\, please contact Ned Tipton through the church office or ntipton@stmarksnewcanaan.org
URL:https://www.stmarksnewcanaan.org/event/childrens-choir-rehearsal-joyful-noyze/2025-10-01/
LOCATION:St. Mark’s Episcopal Church\, 111 Oenoke Ridge\, New Canaan\, CT\, 06840
CATEGORIES:Church School,Music
ATTACH;FMTTYPE=image/jpeg:https://www.stmarksnewcanaan.org/wp-content/uploads/2025/08/Kids-Choirs-scaled-e1756304107245.jpeg
ORGANIZER;CN="Jan Maynes":MAILTO:children@stmarksnewcanaan.org
END:VEVENT
BEGIN:VEVENT
DTSTART;TZID=America/New_York:20251001T160000
DTEND;TZID=America/New_York:20251001T163000
DTSTAMP:20260420T053816
CREATED:20250827T142126Z
LAST-MODIFIED:20250827T143333Z
UID:10015201-1759334400-1759336200@www.stmarksnewcanaan.org
SUMMARY:Children's Choir Rehearsal: Choristers
DESCRIPTION:Calling all children in kindergarten and up – Join us! Learn skills in reading and interpreting music\, as well as the joy of singing to our Lord and with each other\, all under the guidance of our Director of Music Ministry\, Ned Tipton. We welcome current and new members to join one of our two children’s choir levels: \n\nJoyful Noyze: For children in kindergarten through second grade\, Wednesdays 4-4:30PM\nChoristers: For children in third grade and older\, Wednesdays 4:30-5:30PM\n\nRehearsal and performance schedules follow the New Canaan school calendar. In addition to regular participation in Sunday services\, many fun and educational activities are planned. Register here. For more information\, please contact Ned Tipton through the church office or ntipton@stmarksnewcanaan.org
URL:https://www.stmarksnewcanaan.org/event/childrens-choir-rehearsal-choristers-2/2025-10-01/
LOCATION:St. Mark’s Episcopal Church\, 111 Oenoke Ridge\, New Canaan\, CT\, 06840
CATEGORIES:Church School,Music
ATTACH;FMTTYPE=image/jpeg:https://www.stmarksnewcanaan.org/wp-content/uploads/2025/08/Kids-Choirs-scaled-e1756304107245.jpeg
ORGANIZER;CN="Jan Maynes":MAILTO:children@stmarksnewcanaan.org
END:VEVENT
BEGIN:VEVENT
DTSTART;TZID=America/New_York:20251001T163000
DTEND;TZID=America/New_York:20251001T173000
DTSTAMP:20260420T053816
CREATED:20250827T141957Z
LAST-MODIFIED:20250827T141957Z
UID:10015119-1759336200-1759339800@www.stmarksnewcanaan.org
SUMMARY:Children's Choir Rehearsal: Choristers
DESCRIPTION:Calling all children in kindergarten and up – Join us! Learn skills in reading and interpreting music\, as well as the joy of singing to our Lord and with each other\, all under the guidance of our Director of Music Ministry\, Ned Tipton. We welcome current and new members to join one of our two children’s choir levels: \n\nJoyful Noyze: For children in kindergarten through second grade\, Wednesdays 4-4:30PM\nChoristers: For children in third grade and older\, Wednesdays 4:30-5:30PM\n\nRehearsal and performance schedules follow the New Canaan school calendar. In addition to regular participation in Sunday services\, many fun and educational activities are planned. For more information\, please contact Ned Tipton through the church office or ntipton@stmarksnewcanaan.org
URL:https://www.stmarksnewcanaan.org/event/childrens-choir-rehearsal-choristers/2025-10-01/
LOCATION:St. Mark’s Episcopal Church\, 111 Oenoke Ridge\, New Canaan\, CT\, 06840
CATEGORIES:Church School,Music
ATTACH;FMTTYPE=image/jpeg:https://www.stmarksnewcanaan.org/wp-content/uploads/2025/08/Kids-Choirs-scaled-e1756304107245.jpeg
ORGANIZER;CN="Jan Maynes":MAILTO:children@stmarksnewcanaan.org
END:VEVENT
END:VCALENDAR