BEGIN:VCALENDAR
VERSION:2.0
PRODID:-//St. Mark&#039;s, New Canaan - ECPv6.15.18//NONSGML v1.0//EN
CALSCALE:GREGORIAN
METHOD:PUBLISH
X-WR-CALNAME:St. Mark&#039;s, New Canaan
X-ORIGINAL-URL:https://www.stmarksnewcanaan.org
X-WR-CALDESC:Events for St. Mark&#039;s, New Canaan
REFRESH-INTERVAL;VALUE=DURATION:PT1H
X-Robots-Tag:noindex
X-PUBLISHED-TTL:PT1H
BEGIN:VTIMEZONE
TZID:America/New_York
BEGIN:DAYLIGHT
TZOFFSETFROM:-0500
TZOFFSETTO:-0400
TZNAME:EDT
DTSTART:20240310T070000
END:DAYLIGHT
BEGIN:STANDARD
TZOFFSETFROM:-0400
TZOFFSETTO:-0500
TZNAME:EST
DTSTART:20241103T060000
END:STANDARD
BEGIN:DAYLIGHT
TZOFFSETFROM:-0500
TZOFFSETTO:-0400
TZNAME:EDT
DTSTART:20250309T070000
END:DAYLIGHT
BEGIN:STANDARD
TZOFFSETFROM:-0400
TZOFFSETTO:-0500
TZNAME:EST
DTSTART:20251102T060000
END:STANDARD
BEGIN:DAYLIGHT
TZOFFSETFROM:-0500
TZOFFSETTO:-0400
TZNAME:EDT
DTSTART:20260308T070000
END:DAYLIGHT
BEGIN:STANDARD
TZOFFSETFROM:-0400
TZOFFSETTO:-0500
TZNAME:EST
DTSTART:20261101T060000
END:STANDARD
END:VTIMEZONE
BEGIN:VEVENT
DTSTART;TZID=America/New_York:20250629T080000
DTEND;TZID=America/New_York:20250629T090000
DTSTAMP:20260420T204255
CREATED:20230915T013617Z
LAST-MODIFIED:20250221T230944Z
UID:10013331-1751184000-1751187600@www.stmarksnewcanaan.org
SUMMARY:Holy Eucharist Rite I
DESCRIPTION:
URL:https://www.stmarksnewcanaan.org/event/holy-eucharist-rite-i/2025-06-29/
CATEGORIES:Worship
ATTACH;FMTTYPE=image/jpeg:https://www.stmarksnewcanaan.org/wp-content/uploads/2024/08/8AM.jpg
END:VEVENT
BEGIN:VEVENT
DTSTART;TZID=America/New_York:20250629T090000
DTEND;TZID=America/New_York:20250629T100000
DTSTAMP:20260420T204255
CREATED:20230915T014458Z
LAST-MODIFIED:20250221T230728Z
UID:10013023-1751187600-1751191200@www.stmarksnewcanaan.org
SUMMARY:Outdoor Holy Eucharist Rite II
DESCRIPTION:
URL:https://www.stmarksnewcanaan.org/event/outdoor-holy-eucharist-rite-ii/2025-06-29/
CATEGORIES:Worship
ATTACH;FMTTYPE=image/jpeg:https://www.stmarksnewcanaan.org/wp-content/uploads/2024/08/9AM.jpg
END:VEVENT
BEGIN:VEVENT
DTSTART;TZID=America/New_York:20250629T100000
DTEND;TZID=America/New_York:20250629T110000
DTSTAMP:20260420T204256
CREATED:20230918T210230Z
LAST-MODIFIED:20250221T230426Z
UID:10010863-1751191200-1751194800@www.stmarksnewcanaan.org
SUMMARY:Holy Eucharist Rite II with Live Stream
DESCRIPTION:
URL:https://www.stmarksnewcanaan.org/event/holy-eucharist-rite-ii-with-live-stream/2025-06-29/
CATEGORIES:Home,Worship
ATTACH;FMTTYPE=image/jpeg:https://www.stmarksnewcanaan.org/wp-content/uploads/2024/08/10AM.jpg
END:VEVENT
BEGIN:VEVENT
DTSTART;TZID=America/New_York:20250629T110000
DTEND;TZID=America/New_York:20250629T120000
DTSTAMP:20260420T204256
CREATED:20240903T160624Z
LAST-MODIFIED:20250826T195946Z
UID:10008303-1751194800-1751198400@www.stmarksnewcanaan.org
SUMMARY:World's Greatest Coffee Hour
DESCRIPTION:Stay after the 10:00 service for the “second sacred meal” where we form community and relationships. Greet familiar friends and meet new ones. Wear your nametag and introduce yourself to someone you do not know. \nIt takes many hands to make hospitality. Click here to choose the dates you can help!
URL:https://www.stmarksnewcanaan.org/event/coffee-hour-2/2025-06-29/
CATEGORIES:Community
ATTACH;FMTTYPE=image/jpeg:https://www.stmarksnewcanaan.org/wp-content/uploads/2024/08/Picnic-scaled-1.jpg
END:VEVENT
BEGIN:VEVENT
DTSTART;TZID=America/New_York:20250629T170000
DTEND;TZID=America/New_York:20250629T173000
DTSTAMP:20260420T204256
CREATED:20250707T202156Z
LAST-MODIFIED:20250707T202156Z
UID:10014023-1751216400-1751218200@www.stmarksnewcanaan.org
SUMMARY:Holy Eucharist
DESCRIPTION:Join us for our Sunday 5PM contemplative service of Holy Eucharist in the chapel. This intimate and reflective service offers a quieter\, more meditative worship experience\, inviting you to pause\, pray\, and receive communion in a serene setting. Come as you are and find rest and renewal in God’s presence at the close of the day.
URL:https://www.stmarksnewcanaan.org/event/holy-eucharist-2/2025-06-29/
LOCATION:St. Mark’s Chapel\, 111 Oenoke Ridge\, New Canaan\, CT\, 06840\, United States
CATEGORIES:Worship
ATTACH;FMTTYPE=image/jpeg:https://www.stmarksnewcanaan.org/wp-content/uploads/2024/09/5PM-scaled-e1726863348558.jpg
END:VEVENT
BEGIN:VEVENT
DTSTART;TZID=America/New_York:20250629T190000
DTEND;TZID=America/New_York:20250629T200000
DTSTAMP:20260420T204256
CREATED:20231127T221018Z
LAST-MODIFIED:20240919T190947Z
UID:10008863-1751223600-1751227200@www.stmarksnewcanaan.org
SUMMARY:Alateen
DESCRIPTION:
URL:https://www.stmarksnewcanaan.org/event/alateen-2/2025-06-29/
CATEGORIES:Community
ATTACH;FMTTYPE=image/jpeg:https://www.stmarksnewcanaan.org/wp-content/uploads/2024/08/Alateen-1.jpg
END:VEVENT
END:VCALENDAR