BEGIN:VCALENDAR
VERSION:2.0
PRODID:-//St. Mark&#039;s, New Canaan - ECPv6.15.18//NONSGML v1.0//EN
CALSCALE:GREGORIAN
METHOD:PUBLISH
X-ORIGINAL-URL:https://www.stmarksnewcanaan.org
X-WR-CALDESC:Events for St. Mark&#039;s, New Canaan
REFRESH-INTERVAL;VALUE=DURATION:PT1H
X-Robots-Tag:noindex
X-PUBLISHED-TTL:PT1H
BEGIN:VTIMEZONE
TZID:America/New_York
BEGIN:DAYLIGHT
TZOFFSETFROM:-0500
TZOFFSETTO:-0400
TZNAME:EDT
DTSTART:20240310T070000
END:DAYLIGHT
BEGIN:STANDARD
TZOFFSETFROM:-0400
TZOFFSETTO:-0500
TZNAME:EST
DTSTART:20241103T060000
END:STANDARD
BEGIN:DAYLIGHT
TZOFFSETFROM:-0500
TZOFFSETTO:-0400
TZNAME:EDT
DTSTART:20250309T070000
END:DAYLIGHT
BEGIN:STANDARD
TZOFFSETFROM:-0400
TZOFFSETTO:-0500
TZNAME:EST
DTSTART:20251102T060000
END:STANDARD
BEGIN:DAYLIGHT
TZOFFSETFROM:-0500
TZOFFSETTO:-0400
TZNAME:EDT
DTSTART:20260308T070000
END:DAYLIGHT
BEGIN:STANDARD
TZOFFSETFROM:-0400
TZOFFSETTO:-0500
TZNAME:EST
DTSTART:20261101T060000
END:STANDARD
END:VTIMEZONE
BEGIN:VEVENT
DTSTART;TZID=America/New_York:20250612T083000
DTEND;TZID=America/New_York:20250612T090000
DTSTAMP:20260421T033913
CREATED:20230918T212439Z
LAST-MODIFIED:20251204T224149Z
UID:10011839-1749717000-1749718800@www.stmarksnewcanaan.org
SUMMARY:Morning Prayer
DESCRIPTION:
URL:https://www.stmarksnewcanaan.org/event/morning-prayer/2025-06-12/
ATTACH;FMTTYPE=image/png:https://www.stmarksnewcanaan.org/wp-content/uploads/2024/02/StMark-slogo-405w.png
END:VEVENT
BEGIN:VEVENT
DTSTART;TZID=America/New_York:20250612T190000
DTEND;TZID=America/New_York:20250612T203000
DTSTAMP:20260421T033913
CREATED:20231109T210334Z
LAST-MODIFIED:20251204T223958Z
UID:10010552-1749754800-1749760200@www.stmarksnewcanaan.org
SUMMARY:New Canaan Parent Support Group
DESCRIPTION:
URL:https://www.stmarksnewcanaan.org/event/new-canaan-parent-support-group/2025-06-12/
END:VEVENT
BEGIN:VEVENT
DTSTART;TZID=America/New_York:20250612T190000
DTEND;TZID=America/New_York:20250612T204500
DTSTAMP:20260421T033913
CREATED:20240619T180150Z
LAST-MODIFIED:20250221T230029Z
UID:10009692-1749754800-1749761100@www.stmarksnewcanaan.org
SUMMARY:St. Mark’s Choir Rehearsal
DESCRIPTION:Sing with the St. Mark’s Choir!\nSingers are needed in all sections for this diverse\, enthusiastic\, and dedicated group\, essential to the beauty and spiritual depth of sung services. We sing music from all periods\, perform extended works in concert\, and offer Evensong and the Service of Nine Lessons and Carols each season. With the help of our newly-formed Friends of Music at St. Mark’s\, we plan to add a gala concert accompanied by an instrumental ensemble this year. It is our “care and delight” to sing every Sunday (September through early June/Trinity Sunday) and for all major holidays of the church year. \nIf you love to sing\, have some sight-reading ability\, and would enjoy this labor of love with a wonderful group of people\, please contact our Director of Music Ministry\, Ned Tipton at
URL:https://www.stmarksnewcanaan.org/event/st-marks-choir-rehearsal-2/2025-06-12/
CATEGORIES:Music
ATTACH;FMTTYPE=image/webp:https://www.stmarksnewcanaan.org/wp-content/uploads/2024/02/St.Mark-s-6-EDIT-1920w.webp
END:VEVENT
END:VCALENDAR