BEGIN:VCALENDAR
VERSION:2.0
PRODID:-//St. Mark&#039;s, New Canaan - ECPv6.15.18//NONSGML v1.0//EN
CALSCALE:GREGORIAN
METHOD:PUBLISH
X-ORIGINAL-URL:https://www.stmarksnewcanaan.org
X-WR-CALDESC:Events for St. Mark&#039;s, New Canaan
REFRESH-INTERVAL;VALUE=DURATION:PT1H
X-Robots-Tag:noindex
X-PUBLISHED-TTL:PT1H
BEGIN:VTIMEZONE
TZID:America/New_York
BEGIN:DAYLIGHT
TZOFFSETFROM:-0500
TZOFFSETTO:-0400
TZNAME:EDT
DTSTART:20240310T070000
END:DAYLIGHT
BEGIN:STANDARD
TZOFFSETFROM:-0400
TZOFFSETTO:-0500
TZNAME:EST
DTSTART:20241103T060000
END:STANDARD
BEGIN:DAYLIGHT
TZOFFSETFROM:-0500
TZOFFSETTO:-0400
TZNAME:EDT
DTSTART:20250309T070000
END:DAYLIGHT
BEGIN:STANDARD
TZOFFSETFROM:-0400
TZOFFSETTO:-0500
TZNAME:EST
DTSTART:20251102T060000
END:STANDARD
BEGIN:DAYLIGHT
TZOFFSETFROM:-0500
TZOFFSETTO:-0400
TZNAME:EDT
DTSTART:20260308T070000
END:DAYLIGHT
BEGIN:STANDARD
TZOFFSETFROM:-0400
TZOFFSETTO:-0500
TZNAME:EST
DTSTART:20261101T060000
END:STANDARD
END:VTIMEZONE
BEGIN:VEVENT
DTSTART;TZID=America/New_York:20250420T070000
DTEND;TZID=America/New_York:20250420T073000
DTSTAMP:20260422T030053
CREATED:20240126T215323Z
LAST-MODIFIED:20250221T231507Z
UID:10014794-1745132400-1745134200@www.stmarksnewcanaan.org
SUMMARY:Easter Sunrise Eucharist
DESCRIPTION:
URL:https://www.stmarksnewcanaan.org/event/easter-sunrise-eucharist-2/2025-04-20/
CATEGORIES:Home,Worship
ATTACH;FMTTYPE=image/jpeg:https://www.stmarksnewcanaan.org/wp-content/uploads/2024/08/IMG_0629-scaled-1.jpeg
END:VEVENT
BEGIN:VEVENT
DTSTART;TZID=America/New_York:20250420T090000
DTEND;TZID=America/New_York:20250420T100000
DTSTAMP:20260422T030053
CREATED:20240126T215748Z
LAST-MODIFIED:20250221T231254Z
UID:10014790-1745139600-1745143200@www.stmarksnewcanaan.org
SUMMARY:Easter Festival Choral Eucharist with Live Stream
DESCRIPTION:
URL:https://www.stmarksnewcanaan.org/event/easter-festival-choral-eucharist-with-live-stream/2025-04-20/1/
CATEGORIES:Home,Worship
ATTACH;FMTTYPE=image/jpeg:https://www.stmarksnewcanaan.org/wp-content/uploads/2024/08/IMG_3088-scaled-1.jpeg
END:VEVENT
BEGIN:VEVENT
DTSTART;TZID=America/New_York:20250420T090000
DTEND;TZID=America/New_York:20250420T100000
DTSTAMP:20260422T030053
CREATED:20260311T160330Z
LAST-MODIFIED:20260311T160439Z
UID:10015895-1745139600-1745143200@www.stmarksnewcanaan.org
SUMMARY:Easter Festival Choral Eucharist with Live Stream
DESCRIPTION:
URL:https://www.stmarksnewcanaan.org/event/easter-festival-choral-eucharist-with-live-stream-2/2025-04-20/1/
LOCATION:St. Mark’s Episcopal Church\, 111 Oenoke Ridge\, New Canaan\, CT\, 06840
CATEGORIES:Home,Special Events,Worship
ATTACH;FMTTYPE=image/jpeg:https://www.stmarksnewcanaan.org/wp-content/uploads/2024/08/IMG_3088-scaled-1.jpeg
END:VEVENT
BEGIN:VEVENT
DTSTART;TZID=America/New_York:20250420T110000
DTEND;TZID=America/New_York:20250420T120000
DTSTAMP:20260422T030053
CREATED:20240126T215748Z
LAST-MODIFIED:20250221T231254Z
UID:10014791-1745146800-1745150400@www.stmarksnewcanaan.org
SUMMARY:Easter Festival Choral Eucharist with Live Stream
DESCRIPTION:
URL:https://www.stmarksnewcanaan.org/event/easter-festival-choral-eucharist-with-live-stream/2025-04-20/2/
CATEGORIES:Home,Worship
ATTACH;FMTTYPE=image/jpeg:https://www.stmarksnewcanaan.org/wp-content/uploads/2024/08/IMG_3088-scaled-1.jpeg
END:VEVENT
BEGIN:VEVENT
DTSTART;TZID=America/New_York:20250420T110000
DTEND;TZID=America/New_York:20250420T120000
DTSTAMP:20260422T030053
CREATED:20240903T160624Z
LAST-MODIFIED:20250826T195946Z
UID:10008293-1745146800-1745150400@www.stmarksnewcanaan.org
SUMMARY:World's Greatest Coffee Hour
DESCRIPTION:Stay after the 10:00 service for the “second sacred meal” where we form community and relationships. Greet familiar friends and meet new ones. Wear your nametag and introduce yourself to someone you do not know. \nIt takes many hands to make hospitality. Click here to choose the dates you can help!
URL:https://www.stmarksnewcanaan.org/event/coffee-hour-2/2025-04-20/
CATEGORIES:Community
ATTACH;FMTTYPE=image/jpeg:https://www.stmarksnewcanaan.org/wp-content/uploads/2024/08/Picnic-scaled-1.jpg
END:VEVENT
BEGIN:VEVENT
DTSTART;TZID=America/New_York:20250420T110000
DTEND;TZID=America/New_York:20250420T120000
DTSTAMP:20260422T030053
CREATED:20260311T160330Z
LAST-MODIFIED:20260311T160439Z
UID:10015896-1745146800-1745150400@www.stmarksnewcanaan.org
SUMMARY:Easter Festival Choral Eucharist with Live Stream
DESCRIPTION:
URL:https://www.stmarksnewcanaan.org/event/easter-festival-choral-eucharist-with-live-stream-2/2025-04-20/2/
LOCATION:St. Mark’s Episcopal Church\, 111 Oenoke Ridge\, New Canaan\, CT\, 06840
CATEGORIES:Home,Special Events,Worship
ATTACH;FMTTYPE=image/jpeg:https://www.stmarksnewcanaan.org/wp-content/uploads/2024/08/IMG_3088-scaled-1.jpeg
END:VEVENT
BEGIN:VEVENT
DTSTART;TZID=America/New_York:20250420T113000
DTEND;TZID=America/New_York:20250420T123000
DTSTAMP:20260422T030053
CREATED:20240927T224653Z
LAST-MODIFIED:20241010T150820Z
UID:10008551-1745148600-1745152200@www.stmarksnewcanaan.org
SUMMARY:Confirmation Class
DESCRIPTION:
URL:https://www.stmarksnewcanaan.org/event/confirmation-2-2/2025-04-20/
LOCATION:Hugs
CATEGORIES:Classes & Forums,Youth
END:VEVENT
BEGIN:VEVENT
DTSTART;TZID=America/New_York:20250420T170000
DTEND;TZID=America/New_York:20250420T173000
DTSTAMP:20260422T030053
CREATED:20240920T201612Z
LAST-MODIFIED:20241031T152638Z
UID:10014013-1745168400-1745170200@www.stmarksnewcanaan.org
SUMMARY:Holy Eucharist
DESCRIPTION:Join us for our Sunday 5PM contemplative service of Holy Eucharist in the chapel. This intimate and reflective service offers a quieter\, more meditative worship experience\, inviting you to pause\, pray\, and receive communion in a serene setting. Come as you are and find rest and renewal in God’s presence at the close of the day.
URL:https://www.stmarksnewcanaan.org/event/holy-eucharist/2025-04-20/
LOCATION:St. Mark’s Chapel\, 111 Oenoke Ridge\, New Canaan\, CT\, 06840\, United States
CATEGORIES:Worship
ATTACH;FMTTYPE=image/jpeg:https://www.stmarksnewcanaan.org/wp-content/uploads/2024/09/5PM-scaled-e1726863348558.jpg
END:VEVENT
BEGIN:VEVENT
DTSTART;TZID=America/New_York:20250420T190000
DTEND;TZID=America/New_York:20250420T200000
DTSTAMP:20260422T030053
CREATED:20231127T221018Z
LAST-MODIFIED:20240919T190947Z
UID:10008853-1745175600-1745179200@www.stmarksnewcanaan.org
SUMMARY:Alateen
DESCRIPTION:
URL:https://www.stmarksnewcanaan.org/event/alateen-2/2025-04-20/
CATEGORIES:Community
ATTACH;FMTTYPE=image/jpeg:https://www.stmarksnewcanaan.org/wp-content/uploads/2024/08/Alateen-1.jpg
END:VEVENT
END:VCALENDAR